BEGIN:VCALENDAR
VERSION:2.0
PRODID:-//midwestchildcare.org//NONSGML kigkonsult.se iCalcreator 2.30.10//
CALSCALE:GREGORIAN
METHOD:PUBLISH
UID:753bee6b-b4b0-4111-8a90-e56856f9488b
X-WR-CALDESC:Noisy Night: An Interactive Preschool Class\n\nYou are invited
  to a Zoom meeting.\nWhen: Feb 23\, 2023 09:00 AM Central Time (US and Can
 ada) \n\nRegister in advance for this meeting:\nhttps://us02web.zoom.us/me
 eting/register/tZApf-GrqT0tGtzK7ldCLIPtNtdcFkDSNQRi\n\nAfter registering\,
  you will receive a confirmation email containing information about joinin
 g the meeting.
X-WR-RELCALID:c884491ba621f7e649d3e46fd4a0c0ab
X-WR-TIMEZONE:America/Chicago
BEGIN:VTIMEZONE
TZID:America/Chicago
BEGIN:STANDARD
TZNAME:CST
DTSTART:20221106T020000
TZOFFSETFROM:-0500
TZOFFSETTO:-0600
RDATE:20231105T020000
END:STANDARD
BEGIN:DAYLIGHT
TZNAME:CDT
DTSTART:20220313T020000
TZOFFSETFROM:-0600
TZOFFSETTO:-0500
RDATE:20230312T020000
RDATE:20240310T020000
END:DAYLIGHT
END:VTIMEZONE
BEGIN:VEVENT
UID:efdf06d1-312c-4921-8dc5-4b1e12c062c1
DTSTAMP:20260424T160600Z
DESCRIPTION:Noisy Night: An Interactive Preschool Class\n\nYou are invited 
 to a Zoom meeting.\nWhen: Feb 23\, 2023 09:00 AM Central Time (US and Cana
 da) \n\nRegister in advance for this meeting:\nhttps://us02web.zoom.us/mee
 ting/register/tZApf-GrqT0tGtzK7ldCLIPtNtdcFkDSNQRi\n\nAfter registering\, 
 you will receive a confirmation email containing information about joining
  the meeting.
DTSTART;TZID=America/Chicago:20230223T090000
DTEND;TZID=America/Chicago:20230223T093000
LOCATION:
SUMMARY:Noisy Night: An Interactive Preschool Class
END:VEVENT
END:VCALENDAR
