BEGIN:VCALENDAR
VERSION:2.0
PRODID:-//midwestchildcare.org//NONSGML kigkonsult.se iCalcreator 2.30.10//
CALSCALE:GREGORIAN
METHOD:PUBLISH
UID:a3bfc241-ce3b-4e04-bde0-53f286c5cb2e
X-WR-CALDESC:HSI Pediatric First Aid | CPR AED Child/Infant/Adult (2020) \n
 \nTop Notch 1\n\nClass Number: 30906971\nClass Start Date:06/15/2023 \nCla
 ss Time: 6:00 PM - 10:00 PM\nLocation:	4505 S 96th St \nOmaha\, NE\n68127\n
 Remaining Seats: 99\n(Contact: Matthew Nagler @ mattsafetytraining@gmail.c
 om)\n\nhttps://osmanager4.com/advcustomerlanding.aspx?co=1&cid=3653217
X-WR-RELCALID:712cfe0ebd18c0c0dcd9681e95bd7e00
X-WR-TIMEZONE:America/Chicago
BEGIN:VTIMEZONE
TZID:America/Chicago
BEGIN:STANDARD
TZNAME:CST
DTSTART:20221106T020000
TZOFFSETFROM:-0500
TZOFFSETTO:-0600
RDATE:20231105T020000
END:STANDARD
BEGIN:DAYLIGHT
TZNAME:CDT
DTSTART:20220313T020000
TZOFFSETFROM:-0600
TZOFFSETTO:-0500
RDATE:20230312T020000
RDATE:20240310T020000
END:DAYLIGHT
END:VTIMEZONE
BEGIN:VEVENT
UID:5865e1d6-782d-443a-8541-f5892b1c47c5
DTSTAMP:20260424T153206Z
DESCRIPTION:HSI Pediatric First Aid | CPR AED Child/Infant/Adult (2020) \n
 \nTop Notch 1\n\nClass Number: 30906971\nClass Start Date:06/15/2023 \nCla
 ss Time: 6:00 PM - 10:00 PM\nLocation:	4505 S 96th St \nOmaha\, NE\n68127\n
 Remaining Seats: 99\n(Contact: Matthew Nagler @ mattsafetytraining@gmail.c
 om)\n\nhttps://osmanager4.com/advcustomerlanding.aspx?co=1&cid=3653217
DTSTART;TZID=America/Chicago:20230216T180000
DTEND;TZID=America/Chicago:20230216T220000
LOCATION:
SUMMARY:HSI Pediatric First Aid | CPR AED Child/Infant/Adult (2020)
END:VEVENT
END:VCALENDAR
