BEGIN:VCALENDAR
VERSION:2.0
PRODID:-//midwestchildcare.org//NONSGML kigkonsult.se iCalcreator 2.30.10//
CALSCALE:GREGORIAN
METHOD:PUBLISH
UID:7d04fdfa-8ad8-4062-8ac2-83661c0ff312
X-WR-CALDESC:HSI Pediatric First Aid | CPR AED Child/Infant/Adult (2020) \n
 \nTop Notch Training Facility - Feb\n\nClass Number: 30649966\nClass Start
  Date:02/09/2023 \nClass Time: 6:00 PM - 8:00 PM\nLocation:	4505 S 96th St 
 \nOmaha\, NE\n68127\nRemaining Seats: 99\n(Zoom ***Renewal Class*** Must h
 ave Unexpired Certification (6 to 8 PM) & Hands On Portion By Appointment)
 \n\nTo Register\nhttps://osmanager4.com/advcustomerlanding.aspx?co=1&cid=4
 004995
X-WR-RELCALID:64dafa6c2dada65fb8a4317b575cdac3
X-WR-TIMEZONE:America/Chicago
BEGIN:VTIMEZONE
TZID:America/Chicago
BEGIN:STANDARD
TZNAME:CST
DTSTART:20221106T020000
TZOFFSETFROM:-0500
TZOFFSETTO:-0600
RDATE:20231105T020000
END:STANDARD
BEGIN:DAYLIGHT
TZNAME:CDT
DTSTART:20220313T020000
TZOFFSETFROM:-0600
TZOFFSETTO:-0500
RDATE:20230312T020000
RDATE:20240310T020000
END:DAYLIGHT
END:VTIMEZONE
BEGIN:VEVENT
UID:6af9c4ef-e1c9-4d71-987a-acd35990964a
DTSTAMP:20260424T154210Z
DESCRIPTION:HSI Pediatric First Aid | CPR AED Child/Infant/Adult (2020) \n
 \nTop Notch Training Facility - Feb\n\nClass Number: 30649966\nClass Start
  Date:02/09/2023 \nClass Time: 6:00 PM - 8:00 PM\nLocation:	4505 S 96th St 
 \nOmaha\, NE\n68127\nRemaining Seats: 99\n(Zoom ***Renewal Class*** Must h
 ave Unexpired Certification (6 to 8 PM) & Hands On Portion By Appointment)
 \n\nTo Register\nhttps://osmanager4.com/advcustomerlanding.aspx?co=1&cid=4
 004995
DTSTART;TZID=America/Chicago:20230209T180000
DTEND;TZID=America/Chicago:20230209T203000
LOCATION:
SUMMARY:Pediatric CPR/AED/FA Zoom Class & Hands On Portion (By Appointment)
END:VEVENT
END:VCALENDAR
