BEGIN:VCALENDAR
VERSION:2.0
PRODID:-//midwestchildcare.org//NONSGML kigkonsult.se iCalcreator 2.30.10//
CALSCALE:GREGORIAN
METHOD:PUBLISH
UID:84fa760d-9ff9-4e42-93e1-2dee6952c53f
X-WR-CALDESC:Diggersaurs: An Interactive Preschool Class\nJan 26\, 2023 10:
 00 AM Central Time (US and Canada)\nsign up using this link:\nhttps://us02
 web.zoom.us/meeting/register/tZwvc-uppzgsGdbjA98yj0qGcGhKhaVuTNP_
X-WR-RELCALID:c3f02fb8d167df358e95c09519e6af53
X-WR-TIMEZONE:America/Chicago
BEGIN:VTIMEZONE
TZID:America/Chicago
BEGIN:STANDARD
TZNAME:CST
DTSTART:20221106T020000
TZOFFSETFROM:-0500
TZOFFSETTO:-0600
RDATE:20231105T020000
END:STANDARD
BEGIN:DAYLIGHT
TZNAME:CDT
DTSTART:20220313T020000
TZOFFSETFROM:-0600
TZOFFSETTO:-0500
RDATE:20230312T020000
RDATE:20240310T020000
END:DAYLIGHT
END:VTIMEZONE
BEGIN:VEVENT
UID:c0afe966-906e-4e24-a70a-db5f093a0818
DTSTAMP:20260424T173226Z
DESCRIPTION:Diggersaurs: An Interactive Preschool Class\nJan 26\, 2023 10:0
 0 AM Central Time (US and Canada)\nsign up using this link:\nhttps://us02w
 eb.zoom.us/meeting/register/tZwvc-uppzgsGdbjA98yj0qGcGhKhaVuTNP_
DTSTART;TZID=America/Chicago:20230126T100000
DTEND;TZID=America/Chicago:20230126T103000
LOCATION:
SUMMARY:Diggersaurs: An Interactive Preschool Class
END:VEVENT
END:VCALENDAR
