BEGIN:VCALENDAR
VERSION:2.0
PRODID:-//midwestchildcare.org//NONSGML kigkonsult.se iCalcreator 2.30.10//
CALSCALE:GREGORIAN
METHOD:PUBLISH
UID:fe1f9b8b-16f3-4436-a7e6-73e6ab789c6f
X-WR-CALDESC:Diggersaurs: An Interactive Preschool Class\nJan 26\, 2023 09:
 30 AM Central Time (US and Canada)\nsign up using this link:\nhttps://us02
 web.zoom.us/meeting/register/tZwsceuhrz8pHdOcM1jqWW7B4SMnu7PBzHKW\n
X-WR-RELCALID:ed5e0134c649dac66e39ff82fee6d767
X-WR-TIMEZONE:America/Chicago
BEGIN:VTIMEZONE
TZID:America/Chicago
BEGIN:STANDARD
TZNAME:CST
DTSTART:20221106T020000
TZOFFSETFROM:-0500
TZOFFSETTO:-0600
RDATE:20231105T020000
END:STANDARD
BEGIN:DAYLIGHT
TZNAME:CDT
DTSTART:20220313T020000
TZOFFSETFROM:-0600
TZOFFSETTO:-0500
RDATE:20230312T020000
RDATE:20240310T020000
END:DAYLIGHT
END:VTIMEZONE
BEGIN:VEVENT
UID:b93a5ca4-7a25-4069-a79d-f3cf36287656
DTSTAMP:20260424T174841Z
DESCRIPTION:Diggersaurs: An Interactive Preschool Class\nJan 26\, 2023 09:3
 0 AM Central Time (US and Canada)\nsign up using this link:\nhttps://us02w
 eb.zoom.us/meeting/register/tZwsceuhrz8pHdOcM1jqWW7B4SMnu7PBzHKW\n
DTSTART;TZID=America/Chicago:20230126T093000
DTEND;TZID=America/Chicago:20230126T100000
LOCATION:
SUMMARY:Diggersaurs: An Interactive Preschool Class
END:VEVENT
END:VCALENDAR
