BEGIN:VCALENDAR
VERSION:2.0
PRODID:-//midwestchildcare.org//NONSGML kigkonsult.se iCalcreator 2.30.10//
CALSCALE:GREGORIAN
METHOD:PUBLISH
UID:ff5338b9-f896-4521-b9a3-67b5d0e2a604
X-WR-CALDESC:Diggersaurs: An Interactive Preschool Class\nJan 26\, 2023 09:
 00 AM Central Time (US and Canada)\nsign up using this link:\nhttps://us02
 web.zoom.us/meeting/register/tZYqfuquqjIuG9ccXDjO6Q5erfiT16tQIEr9\n
X-WR-RELCALID:1eb6f2fddc8970143051ac4f7647f029
X-WR-TIMEZONE:America/Chicago
BEGIN:VTIMEZONE
TZID:America/Chicago
BEGIN:STANDARD
TZNAME:CST
DTSTART:20221106T020000
TZOFFSETFROM:-0500
TZOFFSETTO:-0600
RDATE:20231105T020000
END:STANDARD
BEGIN:DAYLIGHT
TZNAME:CDT
DTSTART:20220313T020000
TZOFFSETFROM:-0600
TZOFFSETTO:-0500
RDATE:20230312T020000
RDATE:20240310T020000
END:DAYLIGHT
END:VTIMEZONE
BEGIN:VEVENT
UID:00567197-afa5-4119-bb86-2f2b91a8bedf
DTSTAMP:20260424T174626Z
DESCRIPTION:Diggersaurs: An Interactive Preschool Class\nJan 26\, 2023 09:0
 0 AM Central Time (US and Canada)\nsign up using this link:\nhttps://us02w
 eb.zoom.us/meeting/register/tZYqfuquqjIuG9ccXDjO6Q5erfiT16tQIEr9\n
DTSTART;TZID=America/Chicago:20230126T090000
DTEND;TZID=America/Chicago:20230126T093000
LOCATION:
SUMMARY:Diggersaurs: An Interactive Preschool Class
END:VEVENT
END:VCALENDAR
