BEGIN:VCALENDAR
VERSION:2.0
PRODID:-//midwestchildcare.org//NONSGML kigkonsult.se iCalcreator 2.30.10//
CALSCALE:GREGORIAN
METHOD:PUBLISH
UID:590a6000-125f-45b8-926f-df5173982827
X-WR-CALDESC:HSI Pediatric First Aid | CPR AED Child/Infant/Adult (2020) \n
 \nTop Notch 3\n\nClass Number: 30721337\nClass Start Date:01/19/2023 \nCla
 ss Time: 6:00 PM - 10:00 PM\nLocation:	4505 S 96th St \nOmaha\, NE\n68127\n
 \nTo register\nhttps://osmanager4.com/advcustomerlanding.aspx?co=1&cid=365
 3221
X-WR-RELCALID:8ddcf43fe5b856e2efe8d2b750ba1de1
X-WR-TIMEZONE:America/Chicago
BEGIN:VTIMEZONE
TZID:America/Chicago
BEGIN:STANDARD
TZNAME:CST
DTSTART:20221106T020000
TZOFFSETFROM:-0500
TZOFFSETTO:-0600
RDATE:20231105T020000
END:STANDARD
BEGIN:DAYLIGHT
TZNAME:CDT
DTSTART:20220313T020000
TZOFFSETFROM:-0600
TZOFFSETTO:-0500
RDATE:20230312T020000
RDATE:20240310T020000
END:DAYLIGHT
END:VTIMEZONE
BEGIN:VEVENT
UID:37e9f55f-930d-4f4c-bc0e-a87fc2665b94
DTSTAMP:20260424T175247Z
DESCRIPTION:HSI Pediatric First Aid | CPR AED Child/Infant/Adult (2020) \n
 \nTop Notch 3\n\nClass Number: 30721337\nClass Start Date:01/19/2023 \nCla
 ss Time: 6:00 PM - 10:00 PM\nLocation:	4505 S 96th St \nOmaha\, NE\n68127\n
 \nTo register\nhttps://osmanager4.com/advcustomerlanding.aspx?co=1&cid=365
 3221
DTSTART;TZID=America/Chicago:20230119T180000
DTEND;TZID=America/Chicago:20230119T220000
LOCATION:
SUMMARY:Pediatric CPR/AED/FA In-Person Class
END:VEVENT
END:VCALENDAR
