BEGIN:VCALENDAR
VERSION:2.0
PRODID:-//midwestchildcare.org//NONSGML kigkonsult.se iCalcreator 2.30.10//
CALSCALE:GREGORIAN
METHOD:PUBLISH
UID:03b1cc6f-2518-4df3-b9e7-75451fe7decb
X-WR-CALDESC:Ice Boy: An Interactive Preschool Class\n\nJanuary 19\, 2023 a
 t 10 am \nLink to register:\nhttps://us02web.zoom.us/meeting/register/tZcq
 c-iprTgoGdW4sUG0rWV7CkOl_L-d2l4O
X-WR-RELCALID:eab275d620bf805295ed1a485daf89a1
X-WR-TIMEZONE:America/Chicago
BEGIN:VTIMEZONE
TZID:America/Chicago
BEGIN:STANDARD
TZNAME:CST
DTSTART:20221106T020000
TZOFFSETFROM:-0500
TZOFFSETTO:-0600
RDATE:20231105T020000
END:STANDARD
BEGIN:DAYLIGHT
TZNAME:CDT
DTSTART:20220313T020000
TZOFFSETFROM:-0600
TZOFFSETTO:-0500
RDATE:20230312T020000
RDATE:20240310T020000
END:DAYLIGHT
END:VTIMEZONE
BEGIN:VEVENT
UID:7ce9811d-5469-48ba-a278-a32b21241425
DTSTAMP:20260424T173219Z
DESCRIPTION:Ice Boy: An Interactive Preschool Class\n\nJanuary 19\, 2023 at
  10 am \nLink to register:\nhttps://us02web.zoom.us/meeting/register/tZcqc
 -iprTgoGdW4sUG0rWV7CkOl_L-d2l4O
DTSTART;TZID=America/Chicago:20230119T100000
DTEND;TZID=America/Chicago:20230119T103000
LOCATION:
SUMMARY:Ice Boy: An Interactive Preschool Class
END:VEVENT
END:VCALENDAR
