BEGIN:VCALENDAR
VERSION:2.0
PRODID:-//midwestchildcare.org//NONSGML kigkonsult.se iCalcreator 2.30.10//
CALSCALE:GREGORIAN
METHOD:PUBLISH
UID:fd08f6d0-44b5-48ed-b875-9b586c4f948c
X-WR-CALDESC:Ice Boy: An Interactive Preschool Class\n\nJanuary 19\, 2023 a
 t 9am\nLink to Register\nhttps://us02web.zoom.us/meeting/register/tZUtceut
 rTMoH9REqgF5ZtaBa9GzkbjsbA-E
X-WR-RELCALID:0571757aa7c722ad89e94b333dcc251d
X-WR-TIMEZONE:America/Chicago
BEGIN:VTIMEZONE
TZID:America/Chicago
BEGIN:STANDARD
TZNAME:CST
DTSTART:20221106T020000
TZOFFSETFROM:-0500
TZOFFSETTO:-0600
RDATE:20231105T020000
END:STANDARD
BEGIN:DAYLIGHT
TZNAME:CDT
DTSTART:20220313T020000
TZOFFSETFROM:-0600
TZOFFSETTO:-0500
RDATE:20230312T020000
RDATE:20240310T020000
END:DAYLIGHT
END:VTIMEZONE
BEGIN:VEVENT
UID:ca7b048d-e6bf-4f17-8c6b-e539f786327a
DTSTAMP:20260424T172426Z
DESCRIPTION:Ice Boy: An Interactive Preschool Class\n\nJanuary 19\, 2023 at
  9am\nLink to Register\nhttps://us02web.zoom.us/meeting/register/tZUtceutr
 TMoH9REqgF5ZtaBa9GzkbjsbA-E
DTSTART;TZID=America/Chicago:20230119T090000
DTEND;TZID=America/Chicago:20230119T093000
LOCATION:
SUMMARY:Ice Boy: An Interactive Preschool Class
END:VEVENT
END:VCALENDAR
