BEGIN:VCALENDAR
VERSION:2.0
PRODID:-//midwestchildcare.org//NONSGML kigkonsult.se iCalcreator 2.30.10//
CALSCALE:GREGORIAN
METHOD:PUBLISH
UID:38abaf9a-b2f9-4e88-88d0-672e5ca09ef7
X-WR-CALDESC:HSI Pediatric First Aid | CPR AED Child/Infant/Adult (2020) \n
 \nTop Notch Training - Renewal Class - January\n\nClass Number: 30614836\n
 Class Start Date:01/12/2023 \nClass Time: 6:00 PM - 8:30 PM\nLocation:	4505
  S 96th St \nOmaha\, NE\n68127\nRemaining Seats: 97\n(**Renewal Class** Mu
 st have current CPR/AED/FA Certification)\n\nTo Register\nhttps://osmanage
 r4.com/advcustomerlanding.aspx?co=1&cid=5050894
X-WR-RELCALID:f7b109ba8495a1b0aee6493e154c303b
X-WR-TIMEZONE:America/Chicago
BEGIN:VTIMEZONE
TZID:America/Chicago
BEGIN:STANDARD
TZNAME:CST
DTSTART:20221106T020000
TZOFFSETFROM:-0500
TZOFFSETTO:-0600
RDATE:20231105T020000
END:STANDARD
BEGIN:DAYLIGHT
TZNAME:CDT
DTSTART:20220313T020000
TZOFFSETFROM:-0600
TZOFFSETTO:-0500
RDATE:20230312T020000
RDATE:20240310T020000
END:DAYLIGHT
END:VTIMEZONE
BEGIN:VEVENT
UID:db4bbb10-e676-4fe0-813c-af468c6f2bd3
DTSTAMP:20260424T172210Z
DESCRIPTION:HSI Pediatric First Aid | CPR AED Child/Infant/Adult (2020) \n
 \nTop Notch Training - Renewal Class - January\n\nClass Number: 30614836\n
 Class Start Date:01/12/2023 \nClass Time: 6:00 PM - 8:30 PM\nLocation:	4505
  S 96th St \nOmaha\, NE\n68127\nRemaining Seats: 97\n(**Renewal Class** Mu
 st have current CPR/AED/FA Certification)\n\nTo Register\nhttps://osmanage
 r4.com/advcustomerlanding.aspx?co=1&cid=5050894
DTSTART;TZID=America/Chicago:20230112T180000
DTEND;TZID=America/Chicago:20230112T203000
LOCATION:
SUMMARY:Pediatric CPR/AED/FA In-Person ***Renewal Class***
END:VEVENT
END:VCALENDAR
