BEGIN:VCALENDAR
VERSION:2.0
PRODID:-//midwestchildcare.org//NONSGML kigkonsult.se iCalcreator 2.30.10//
CALSCALE:GREGORIAN
METHOD:PUBLISH
UID:c9bc3e24-fff9-4755-8c85-6f9c4ffb0d3f
X-WR-CALDESC:Polar Bear Morning: An Interactive Preschool Class\n\nYou are 
 invited to a Zoom meeting.\nWhen: Jan 5\, 2023 10:00 AM Central Time (US a
 nd Canada)\n\nRegister in advance for this meeting:\nhttps://us02web.zoom.
 us/meeting/register/tZItdOqrrzkjHNFoOJCcP5k0m03-t0U_lixr\n\nAfter register
 ing\, you will receive a confirmation email containing information about j
 oining the meeting.
X-WR-RELCALID:34b31c693515e5c1de703f79636e0b26
X-WR-TIMEZONE:America/Chicago
BEGIN:VTIMEZONE
TZID:America/Chicago
BEGIN:STANDARD
TZNAME:CST
DTSTART:20221106T020000
TZOFFSETFROM:-0500
TZOFFSETTO:-0600
RDATE:20231105T020000
END:STANDARD
BEGIN:DAYLIGHT
TZNAME:CDT
DTSTART:20220313T020000
TZOFFSETFROM:-0600
TZOFFSETTO:-0500
RDATE:20230312T020000
RDATE:20240310T020000
END:DAYLIGHT
END:VTIMEZONE
BEGIN:VEVENT
UID:19cf784a-44ed-4acc-8f53-8d2633b36266
DTSTAMP:20260424T174753Z
DESCRIPTION:Polar Bear Morning: An Interactive Preschool Class\n\nYou are i
 nvited to a Zoom meeting.\nWhen: Jan 5\, 2023 10:00 AM Central Time (US an
 d Canada)\n\nRegister in advance for this meeting:\nhttps://us02web.zoom.u
 s/meeting/register/tZItdOqrrzkjHNFoOJCcP5k0m03-t0U_lixr\n\nAfter registeri
 ng\, you will receive a confirmation email containing information about jo
 ining the meeting.
DTSTART;TZID=America/Chicago:20230105T100000
DTEND;TZID=America/Chicago:20230105T103000
LOCATION:
SUMMARY:Polar Bear Morning: An Interactive Preschool Class
END:VEVENT
END:VCALENDAR
