BEGIN:VCALENDAR
VERSION:2.0
PRODID:-//midwestchildcare.org//NONSGML kigkonsult.se iCalcreator 2.30.10//
CALSCALE:GREGORIAN
METHOD:PUBLISH
UID:ac20a19e-6323-491e-966b-4ad059577ede
X-WR-CALDESC:Polar Bear Morning: An Interactive Preschool Class\n\nYou are 
 invited to a Zoom meeting.\nWhen: Jan 5\, 2023 09:30 AM Central Time (US a
 nd Canada)\n\nRegister in advance for this meeting:\nhttps://us02web.zoom.
 us/meeting/register/tZApcu2oqjgpGtDzqX6aLT8Bh395EnbTIO1Y\n\nAfter register
 ing\, you will receive a confirmation email containing information about j
 oining the meeting.
X-WR-RELCALID:eeac543d7f06fc8e2fd9f4e30c99e47e
X-WR-TIMEZONE:America/Chicago
BEGIN:VTIMEZONE
TZID:America/Chicago
BEGIN:STANDARD
TZNAME:CST
DTSTART:20221106T020000
TZOFFSETFROM:-0500
TZOFFSETTO:-0600
RDATE:20231105T020000
END:STANDARD
BEGIN:DAYLIGHT
TZNAME:CDT
DTSTART:20220313T020000
TZOFFSETFROM:-0600
TZOFFSETTO:-0500
RDATE:20230312T020000
RDATE:20240310T020000
END:DAYLIGHT
END:VTIMEZONE
BEGIN:VEVENT
UID:9e4bced5-a7ae-469b-9c7c-99955c62b60c
DTSTAMP:20260424T174548Z
DESCRIPTION:Polar Bear Morning: An Interactive Preschool Class\n\nYou are i
 nvited to a Zoom meeting.\nWhen: Jan 5\, 2023 09:30 AM Central Time (US an
 d Canada)\n\nRegister in advance for this meeting:\nhttps://us02web.zoom.u
 s/meeting/register/tZApcu2oqjgpGtDzqX6aLT8Bh395EnbTIO1Y\n\nAfter registeri
 ng\, you will receive a confirmation email containing information about jo
 ining the meeting.
DTSTART;TZID=America/Chicago:20230105T093000
DTEND;TZID=America/Chicago:20230105T100000
LOCATION:
SUMMARY:Polar Bear Morning: An Interactive Preschool Class
END:VEVENT
END:VCALENDAR
