BEGIN:VCALENDAR
VERSION:2.0
PRODID:-//midwestchildcare.org//NONSGML kigkonsult.se iCalcreator 2.30.10//
CALSCALE:GREGORIAN
METHOD:PUBLISH
UID:8120cfd4-7dbc-4bb1-9c9c-a5477517b832
X-WR-CALDESC:Polar Bear Morning: An Interactive Preschool Class\n\nYou are 
 invited to a Zoom meeting.\nWhen: Jan 5\, 2023 09:00 AM Central Time (US a
 nd Canada)\n\nRegister in advance for this meeting:\nhttps://us02web.zoom.
 us/meeting/register/tZMtcOiuqD4sHtWcLVkp0JKyqrhoXIcZ1yzK\n\nAfter register
 ing\, you will receive a confirmation email containing information about j
 oining the meeting.
X-WR-RELCALID:4fc1d456587eab6afd8fecbf3b8838c2
X-WR-TIMEZONE:America/Chicago
BEGIN:VTIMEZONE
TZID:America/Chicago
BEGIN:STANDARD
TZNAME:CST
DTSTART:20221106T020000
TZOFFSETFROM:-0500
TZOFFSETTO:-0600
RDATE:20231105T020000
END:STANDARD
BEGIN:DAYLIGHT
TZNAME:CDT
DTSTART:20220313T020000
TZOFFSETFROM:-0600
TZOFFSETTO:-0500
RDATE:20230312T020000
RDATE:20240310T020000
END:DAYLIGHT
END:VTIMEZONE
BEGIN:VEVENT
UID:8c6b4832-05a1-40b3-a931-4cb8f57d054e
DTSTAMP:20260424T175004Z
DESCRIPTION:Polar Bear Morning: An Interactive Preschool Class\n\nYou are i
 nvited to a Zoom meeting.\nWhen: Jan 5\, 2023 09:00 AM Central Time (US an
 d Canada)\n\nRegister in advance for this meeting:\nhttps://us02web.zoom.u
 s/meeting/register/tZMtcOiuqD4sHtWcLVkp0JKyqrhoXIcZ1yzK\n\nAfter registeri
 ng\, you will receive a confirmation email containing information about jo
 ining the meeting.
DTSTART;TZID=America/Chicago:20230105T090000
DTEND;TZID=America/Chicago:20230105T093000
LOCATION:
SUMMARY:Polar Bear Morning: An Interactive Preschool Class
END:VEVENT
END:VCALENDAR
