BEGIN:VCALENDAR
VERSION:2.0
PRODID:-//midwestchildcare.org//NONSGML kigkonsult.se iCalcreator 2.30.10//
CALSCALE:GREGORIAN
METHOD:PUBLISH
UID:a0e2c357-1fba-44d0-8ef2-e8ea1f8847de
X-WR-CALDESC:Pediatric CPR/AED/FA Zoom Class & Hands On Portion (By Appoint
 ment)\n\nEMS Safety Childcare Provider \n\nTop Notch 2\n\nClass Number: 29
 904843\nClass Start Date:01/05/2023 \nClass Time: 6:00 PM - 10:00 PM\nLoca
 tion:	4505 S 96th St \nOmaha\, NE\n68127\nRemaining Seats: 85\n(01/05/23 Zo
 om Class (6 to 10 PM) & Hands On Portion by appointment takes 20 mins)\n\n
 To Register\nhttps://osmanager4.com/advcustomerlanding.aspx?co=1&cid=36532
 20
X-WR-RELCALID:de54e00c98af3c30d881518f7860d20a
X-WR-TIMEZONE:America/Chicago
BEGIN:VTIMEZONE
TZID:America/Chicago
BEGIN:STANDARD
TZNAME:CST
DTSTART:20221106T020000
TZOFFSETFROM:-0500
TZOFFSETTO:-0600
RDATE:20231105T020000
END:STANDARD
BEGIN:DAYLIGHT
TZNAME:CDT
DTSTART:20220313T020000
TZOFFSETFROM:-0600
TZOFFSETTO:-0500
RDATE:20230312T020000
RDATE:20240310T020000
END:DAYLIGHT
END:VTIMEZONE
BEGIN:VEVENT
UID:bae0a604-2967-41ff-813c-9a4f993ff4a1
DTSTAMP:20260424T174317Z
DESCRIPTION:Pediatric CPR/AED/FA Zoom Class & Hands On Portion (By Appointm
 ent)\n\nEMS Safety Childcare Provider \n\nTop Notch 2\n\nClass Number: 299
 04843\nClass Start Date:01/05/2023 \nClass Time: 6:00 PM - 10:00 PM\nLocat
 ion:	4505 S 96th St \nOmaha\, NE\n68127\nRemaining Seats: 85\n(01/05/23 Zoo
 m Class (6 to 10 PM) & Hands On Portion by appointment takes 20 mins)\n\nT
 o Register\nhttps://osmanager4.com/advcustomerlanding.aspx?co=1&cid=365322
 0
DTSTART;TZID=America/Chicago:20230105T180000
DTEND;TZID=America/Chicago:20230105T220000
LOCATION:
SUMMARY:Pediatric CPR/AED/FA Zoom Class & Hands On Portion (By Appointment)
END:VEVENT
END:VCALENDAR
