BEGIN:VCALENDAR
VERSION:2.0
PRODID:-//midwestchildcare.org//NONSGML kigkonsult.se iCalcreator 2.30.10//
CALSCALE:GREGORIAN
METHOD:PUBLISH
UID:07043738-f7b1-4504-8348-2d15d363a105
X-WR-CALDESC:EMS Safety Childcare Provider \n\nTop Notch 1\n\nClass Number:
  30614827\nClass Start Date:12/15/2022 \nClass Time: 6:00 PM - 10:00 PM\nL
 ocation:	4505 S 96th St \nOmaha\, NE\n68127\n\nTo Register\nhttps://osmanag
 er4.com/advcustomerlanding.aspx?co=1&cid=3653217
X-WR-RELCALID:5209c0aa3767dcc8f593a954b38ee01b
X-WR-TIMEZONE:America/Chicago
BEGIN:VTIMEZONE
TZID:America/Chicago
BEGIN:STANDARD
TZNAME:CST
DTSTART:20221106T020000
TZOFFSETFROM:-0500
TZOFFSETTO:-0600
RDATE:20231105T020000
END:STANDARD
BEGIN:DAYLIGHT
TZNAME:CDT
DTSTART:20220313T020000
TZOFFSETFROM:-0600
TZOFFSETTO:-0500
RDATE:20230312T020000
RDATE:20240310T020000
END:DAYLIGHT
END:VTIMEZONE
BEGIN:VEVENT
UID:78416f31-3af4-4598-9a51-2f6c9af35966
DTSTAMP:20260424T193901Z
DESCRIPTION:EMS Safety Childcare Provider \n\nTop Notch 1\n\nClass Number: 
 30614827\nClass Start Date:12/15/2022 \nClass Time: 6:00 PM - 10:00 PM\nLo
 cation:	4505 S 96th St \nOmaha\, NE\n68127\n\nTo Register\nhttps://osmanage
 r4.com/advcustomerlanding.aspx?co=1&cid=3653217
DTSTART;TZID=America/Chicago:20221215T180000
DTEND;TZID=America/Chicago:20221215T220000
LOCATION:
SUMMARY:Pediatric CPR/AED/FA In-Person Class
END:VEVENT
END:VCALENDAR
