BEGIN:VCALENDAR
VERSION:2.0
PRODID:-//midwestchildcare.org//NONSGML kigkonsult.se iCalcreator 2.30.10//
CALSCALE:GREGORIAN
METHOD:PUBLISH
UID:e6c1af33-3bfc-498a-9c64-cef62b6c7172
X-WR-CALDESC:
X-WR-RELCALID:e0a93f40d6191d4c89c6e57fd2860c33
X-WR-TIMEZONE:America/Chicago
BEGIN:VTIMEZONE
TZID:America/Chicago
BEGIN:STANDARD
TZNAME:CST
DTSTART:20221106T020000
TZOFFSETFROM:-0500
TZOFFSETTO:-0600
RDATE:20231105T020000
END:STANDARD
BEGIN:DAYLIGHT
TZNAME:CDT
DTSTART:20220313T020000
TZOFFSETFROM:-0600
TZOFFSETTO:-0500
RDATE:20230312T020000
RDATE:20240310T020000
END:DAYLIGHT
END:VTIMEZONE
BEGIN:VEVENT
UID:d4b269f7-8e54-4aaa-ad76-85d73f5354da
DTSTAMP:20260424T195031Z
DESCRIPTION:
DTSTART;TZID=America/Chicago:20221208T180000
DTEND;TZID=America/Chicago:20221208T220000
LOCATION:
SUMMARY:Top Notch Training - Renewal Class
END:VEVENT
END:VCALENDAR
