BEGIN:VCALENDAR
VERSION:2.0
PRODID:-//midwestchildcare.org//NONSGML kigkonsult.se iCalcreator 2.30.10//
CALSCALE:GREGORIAN
METHOD:PUBLISH
UID:47774ed0-06e9-417b-b955-43818dab519c
X-WR-CALDESC:Capybara is Friends With Everyone: An interactive Preschool Cl
 ass\n\nYou are invited to a Zoom meeting. \nWhen: Nov 10\, 2022 09:30 AM C
 entral Time (US and Canada) \n\nRegister in advance for this meeting:\nhtt
 ps://us02web.zoom.us/meeting/register/tZcuf-qhpjwtGdTeGO9S5QFLNHfM5vzQBeeg
 \n\nAfter registering\, you will receive a confirmation email containing i
 nformation about joining the meeting.
X-WR-RELCALID:533b2ae990268744deb74f3ebc5b5e31
X-WR-TIMEZONE:America/Chicago
BEGIN:VTIMEZONE
TZID:America/Chicago
BEGIN:STANDARD
TZNAME:CST
DTSTART:20221106T020000
TZOFFSETFROM:-0500
TZOFFSETTO:-0600
RDATE:20231105T020000
END:STANDARD
BEGIN:DAYLIGHT
TZNAME:CDT
DTSTART:20220313T020000
TZOFFSETFROM:-0600
TZOFFSETTO:-0500
RDATE:20230312T020000
RDATE:20240310T020000
END:DAYLIGHT
END:VTIMEZONE
BEGIN:VEVENT
UID:4ef64104-f818-4a95-b406-be62ae91c564
DTSTAMP:20260424T213115Z
DESCRIPTION:Capybara is Friends With Everyone: An interactive Preschool Cla
 ss\n\nYou are invited to a Zoom meeting. \nWhen: Nov 10\, 2022 09:30 AM Ce
 ntral Time (US and Canada) \n\nRegister in advance for this meeting:\nhttp
 s://us02web.zoom.us/meeting/register/tZcuf-qhpjwtGdTeGO9S5QFLNHfM5vzQBeeg
 \n\nAfter registering\, you will receive a confirmation email containing i
 nformation about joining the meeting.
DTSTART;TZID=America/Chicago:20221110T093000
DTEND;TZID=America/Chicago:20221110T100000
LOCATION:
SUMMARY:Capybara is Friends With Everyone: An interactive Preschool Class
END:VEVENT
END:VCALENDAR
