BEGIN:VCALENDAR
VERSION:2.0
PRODID:-//midwestchildcare.org//NONSGML kigkonsult.se iCalcreator 2.30.10//
CALSCALE:GREGORIAN
METHOD:PUBLISH
UID:7ca2bac2-c1ca-46da-b3c1-24981dc7743a
X-WR-CALDESC:Capybara is Friends With Everyone: An interactive Preschool Cl
 ass\n\nYou are invited to a Zoom meeting. \nWhen: Nov 10\, 2022 09:00 AM C
 entral Time (US and Canada) \n\nRegister in advance for this meeting:\nhtt
 ps://us02web.zoom.us/meeting/register/tZYtdeqrpj4qGNeEMeH6Ig8jz3AAFR2x3O5D
 \n\nAfter registering\, you will receive a confirmation email containing i
 nformation about joining the meeting.
X-WR-RELCALID:0a46145d153bb515cfb27e31e6d48b12
X-WR-TIMEZONE:America/Chicago
BEGIN:VTIMEZONE
TZID:America/Chicago
BEGIN:STANDARD
TZNAME:CST
DTSTART:20221106T020000
TZOFFSETFROM:-0500
TZOFFSETTO:-0600
RDATE:20231105T020000
END:STANDARD
BEGIN:DAYLIGHT
TZNAME:CDT
DTSTART:20220313T020000
TZOFFSETFROM:-0600
TZOFFSETTO:-0500
RDATE:20230312T020000
RDATE:20240310T020000
END:DAYLIGHT
END:VTIMEZONE
BEGIN:VEVENT
UID:82000084-3bcb-4c86-9130-edc2d93c9df6
DTSTAMP:20260424T220231Z
DESCRIPTION:Capybara is Friends With Everyone: An interactive Preschool Cla
 ss\n\nYou are invited to a Zoom meeting. \nWhen: Nov 10\, 2022 09:00 AM Ce
 ntral Time (US and Canada) \n\nRegister in advance for this meeting:\nhttp
 s://us02web.zoom.us/meeting/register/tZYtdeqrpj4qGNeEMeH6Ig8jz3AAFR2x3O5D
 \n\nAfter registering\, you will receive a confirmation email containing i
 nformation about joining the meeting.
DTSTART;TZID=America/Chicago:20221110T090000
DTEND;TZID=America/Chicago:20221110T093000
LOCATION:
SUMMARY:Capybara is Friends With Everyone: An interactive Preschool Class
END:VEVENT
END:VCALENDAR
