BEGIN:VCALENDAR
VERSION:2.0
PRODID:-//midwestchildcare.org//NONSGML kigkonsult.se iCalcreator 2.30.10//
CALSCALE:GREGORIAN
METHOD:PUBLISH
UID:d2f2613c-2506-4e19-942c-122ac30798f3
X-WR-CALDESC:Those Darn Squirrels: An Interactive Preschool Class\n\nYou ar
 e invited to a Zoom meeting. \nWhen: Nov 3\, 2022 10:00 AM Central Time (U
 S and Canada) \n\nRegister in advance for this meeting:\nhttps://us02web.z
 oom.us/meeting/register/tZUtd-qprD4vG9Hnt7qZSjU1oL00R7w_v5JB\n\nAfter regi
 stering\, you will receive a confirmation email containing information abo
 ut joining the meeting.
X-WR-RELCALID:59971b21dc382376963270f8dfd90a0a
X-WR-TIMEZONE:America/Chicago
BEGIN:VTIMEZONE
TZID:America/Chicago
BEGIN:STANDARD
TZNAME:CST
DTSTART:20211107T020000
TZOFFSETFROM:-0500
TZOFFSETTO:-0600
RDATE:20221106T020000
RDATE:20231105T020000
END:STANDARD
BEGIN:DAYLIGHT
TZNAME:CDT
DTSTART:20220313T020000
TZOFFSETFROM:-0600
TZOFFSETTO:-0500
RDATE:20230312T020000
RDATE:20240310T020000
END:DAYLIGHT
END:VTIMEZONE
BEGIN:VEVENT
UID:aeaf95f9-2dd3-4e92-b550-e0dfb05008da
DTSTAMP:20260424T214232Z
DESCRIPTION:Those Darn Squirrels: An Interactive Preschool Class\n\nYou are
  invited to a Zoom meeting. \nWhen: Nov 3\, 2022 10:00 AM Central Time (US
  and Canada) \n\nRegister in advance for this meeting:\nhttps://us02web.zo
 om.us/meeting/register/tZUtd-qprD4vG9Hnt7qZSjU1oL00R7w_v5JB\n\nAfter regis
 tering\, you will receive a confirmation email containing information abou
 t joining the meeting.
DTSTART;TZID=America/Chicago:20221103T100000
DTEND;TZID=America/Chicago:20221103T103000
LOCATION:
SUMMARY:Those Darn Squirrels: An Interactive Preschool Class
END:VEVENT
END:VCALENDAR
