BEGIN:VCALENDAR
VERSION:2.0
PRODID:-//midwestchildcare.org//NONSGML kigkonsult.se iCalcreator 2.30.10//
CALSCALE:GREGORIAN
METHOD:PUBLISH
UID:b3fcf6db-33fe-43e3-85db-248036d0bd1e
X-WR-CALDESC:Those Darn Squirrels: An Interactive Preschool Class\n\nYou ar
 e invited to a Zoom meeting. \nWhen: Nov 3\, 2022 09:00 AM Central Time (U
 S and Canada) \n\nRegister in advance for this meeting:\nhttps://us02web.z
 oom.us/meeting/register/tZAuceyhrjwrHN1IhgHkbbmduMAfPEeIj0G0\n\nAfter regi
 stering\, you will receive a confirmation email containing information abo
 ut joining the meeting.
X-WR-RELCALID:57bed29988b791165657e4e0bcc0c7dc
X-WR-TIMEZONE:America/Chicago
BEGIN:VTIMEZONE
TZID:America/Chicago
BEGIN:STANDARD
TZNAME:CST
DTSTART:20211107T020000
TZOFFSETFROM:-0500
TZOFFSETTO:-0600
RDATE:20221106T020000
RDATE:20231105T020000
END:STANDARD
BEGIN:DAYLIGHT
TZNAME:CDT
DTSTART:20220313T020000
TZOFFSETFROM:-0600
TZOFFSETTO:-0500
RDATE:20230312T020000
RDATE:20240310T020000
END:DAYLIGHT
END:VTIMEZONE
BEGIN:VEVENT
UID:ed4f7731-ec11-439d-ba82-22cbaa8ad9f8
DTSTAMP:20260424T213807Z
DESCRIPTION:Those Darn Squirrels: An Interactive Preschool Class\n\nYou are
  invited to a Zoom meeting. \nWhen: Nov 3\, 2022 09:00 AM Central Time (US
  and Canada) \n\nRegister in advance for this meeting:\nhttps://us02web.zo
 om.us/meeting/register/tZAuceyhrjwrHN1IhgHkbbmduMAfPEeIj0G0\n\nAfter regis
 tering\, you will receive a confirmation email containing information abou
 t joining the meeting.
DTSTART;TZID=America/Chicago:20221103T090000
DTEND;TZID=America/Chicago:20221103T093000
LOCATION:
SUMMARY:Those Darn Squirrels: An Interactive Preschool Class
END:VEVENT
END:VCALENDAR
