BEGIN:VCALENDAR
VERSION:2.0
PRODID:-//midwestchildcare.org//NONSGML kigkonsult.se iCalcreator 2.30.10//
CALSCALE:GREGORIAN
METHOD:PUBLISH
UID:d25f05d1-732f-4190-a785-52ca19ea1b8b
X-WR-CALDESC:Little Old Lady Who Was Not Afraid of Anything: Preschool Clas
 s\n\nYou are invited to a Zoom meeting. \nWhen: Oct 27\, 2022 10:00 AM Cen
 tral Time (US and Canada) \n\nRegister in advance for this meeting:\nhttps
 ://us02web.zoom.us/meeting/register/tZIpdemvrjkpHNPoLynBR8JZH-HfaSvH_bwF\n
 \nAfter registering\, you will receive a confirmation email containing inf
 ormation about joining the meeting.
X-WR-RELCALID:e5eb014f42a3694166627c47503dc59f
X-WR-TIMEZONE:America/Chicago
BEGIN:VTIMEZONE
TZID:America/Chicago
BEGIN:STANDARD
TZNAME:CST
DTSTART:20211107T020000
TZOFFSETFROM:-0500
TZOFFSETTO:-0600
RDATE:20221106T020000
RDATE:20231105T020000
END:STANDARD
BEGIN:DAYLIGHT
TZNAME:CDT
DTSTART:20220313T020000
TZOFFSETFROM:-0600
TZOFFSETTO:-0500
RDATE:20230312T020000
RDATE:20240310T020000
END:DAYLIGHT
END:VTIMEZONE
BEGIN:VEVENT
UID:1b5e8fe4-d55d-4500-808e-d27a69d4bcfb
DTSTAMP:20260424T232223Z
DESCRIPTION:Little Old Lady Who Was Not Afraid of Anything: Preschool Class
 \n\nYou are invited to a Zoom meeting. \nWhen: Oct 27\, 2022 10:00 AM Cent
 ral Time (US and Canada) \n\nRegister in advance for this meeting:\nhttps:
 //us02web.zoom.us/meeting/register/tZIpdemvrjkpHNPoLynBR8JZH-HfaSvH_bwF\n
 \nAfter registering\, you will receive a confirmation email containing inf
 ormation about joining the meeting.
DTSTART;TZID=America/Chicago:20221027T100000
DTEND;TZID=America/Chicago:20221027T103000
LOCATION:Zoom Meeting
SUMMARY:Little Old Lady Who Was Not Afraid of Anything: Preschool Class
END:VEVENT
END:VCALENDAR
