BEGIN:VCALENDAR
VERSION:2.0
PRODID:-//midwestchildcare.org//NONSGML kigkonsult.se iCalcreator 2.30.10//
CALSCALE:GREGORIAN
METHOD:PUBLISH
UID:d0ebfdb1-a1e4-43dd-a1ff-51ec0db91bd7
X-WR-CALDESC:Little Old Lady Who Was Not Afraid of Anything: Preschool Clas
 s\n\nYou are invited to a Zoom meeting. \nWhen: Oct 27\, 2022 09:30 AM Cen
 tral Time (US and Canada) \n\nRegister in advance for this meeting:\nhttps
 ://us02web.zoom.us/meeting/register/tZYldOqgqDsiEtYFp21_0OZA968X64LRhDe6\n
 \nAfter registering\, you will receive a confirmation email containing inf
 ormation about joining the meeting.\n
X-WR-RELCALID:d6fc94bfc4d5dfc3aba566dd5a436116
X-WR-TIMEZONE:America/Chicago
BEGIN:VTIMEZONE
TZID:America/Chicago
BEGIN:STANDARD
TZNAME:CST
DTSTART:20211107T020000
TZOFFSETFROM:-0500
TZOFFSETTO:-0600
RDATE:20221106T020000
RDATE:20231105T020000
END:STANDARD
BEGIN:DAYLIGHT
TZNAME:CDT
DTSTART:20220313T020000
TZOFFSETFROM:-0600
TZOFFSETTO:-0500
RDATE:20230312T020000
RDATE:20240310T020000
END:DAYLIGHT
END:VTIMEZONE
BEGIN:VEVENT
UID:b9abd418-0a61-4866-a0b2-b5aeeda1f81b
DTSTAMP:20260424T233511Z
DESCRIPTION:Little Old Lady Who Was Not Afraid of Anything: Preschool Class
 \n\nYou are invited to a Zoom meeting. \nWhen: Oct 27\, 2022 09:30 AM Cent
 ral Time (US and Canada) \n\nRegister in advance for this meeting:\nhttps:
 //us02web.zoom.us/meeting/register/tZYldOqgqDsiEtYFp21_0OZA968X64LRhDe6\n
 \nAfter registering\, you will receive a confirmation email containing inf
 ormation about joining the meeting.\n
DTSTART;TZID=America/Chicago:20221027T093000
DTEND;TZID=America/Chicago:20221027T100000
LOCATION:Zoom Meeting
SUMMARY:Little Old Lady Who Was Not Afraid of Anything: Preschool Class
END:VEVENT
END:VCALENDAR
