BEGIN:VCALENDAR
VERSION:2.0
PRODID:-//midwestchildcare.org//NONSGML kigkonsult.se iCalcreator 2.30.10//
CALSCALE:GREGORIAN
METHOD:PUBLISH
UID:ca7c2384-c251-4c70-9ad0-4cdfd13081a4
X-WR-CALDESC:Little Old Lady Who Was Not Afraid of Anything: Preschool Clas
 s\n\nYou are invited to a Zoom meeting. \nWhen: Oct 27\, 2022 09:00 AM Cen
 tral Time (US and Canada) \n\nRegister in advance for this meeting:\nhttps
 ://us02web.zoom.us/meeting/register/tZAkc-mgrD8qHNcfj2PY12gl0hftW2kn4Hjb\n
 \nAfter registering\, you will receive a confirmation email containing inf
 ormation about joining the meeting.
X-WR-RELCALID:ecd2840343fe82d4295324d1848feefd
X-WR-TIMEZONE:America/Chicago
BEGIN:VTIMEZONE
TZID:America/Chicago
BEGIN:STANDARD
TZNAME:CST
DTSTART:20211107T020000
TZOFFSETFROM:-0500
TZOFFSETTO:-0600
RDATE:20221106T020000
RDATE:20231105T020000
END:STANDARD
BEGIN:DAYLIGHT
TZNAME:CDT
DTSTART:20220313T020000
TZOFFSETFROM:-0600
TZOFFSETTO:-0500
RDATE:20230312T020000
RDATE:20240310T020000
END:DAYLIGHT
END:VTIMEZONE
BEGIN:VEVENT
UID:a1e9a6d6-dc3b-4bb6-b407-4e262c2fe318
DTSTAMP:20260424T233000Z
DESCRIPTION:Little Old Lady Who Was Not Afraid of Anything: Preschool Class
 \n\nYou are invited to a Zoom meeting. \nWhen: Oct 27\, 2022 09:00 AM Cent
 ral Time (US and Canada) \n\nRegister in advance for this meeting:\nhttps:
 //us02web.zoom.us/meeting/register/tZAkc-mgrD8qHNcfj2PY12gl0hftW2kn4Hjb\n
 \nAfter registering\, you will receive a confirmation email containing inf
 ormation about joining the meeting.
DTSTART;TZID=America/Chicago:20221027T090000
DTEND;TZID=America/Chicago:20221027T093000
LOCATION:Zoom Meeting
SUMMARY:Little Old Lady Who Was Not Afraid of Anything: Preschool Class
END:VEVENT
END:VCALENDAR
