BEGIN:VCALENDAR
VERSION:2.0
PRODID:-//midwestchildcare.org//NONSGML kigkonsult.se iCalcreator 2.30.10//
CALSCALE:GREGORIAN
METHOD:PUBLISH
UID:b933549e-521e-44ec-9e22-4e8a80fd907a
X-WR-CALDESC:The Legend of Spookily the Square Pumpkin\n\nYou are invited t
 o a Zoom meeting.\nWhen: Oct 20\, 2022 10:00 AM Central Time (US and Canad
 a)\n\nRegister in advance for this meeting:\nhttps://us02web.zoom.us/meeti
 ng/register/tZckfu6rrTwjGtKToKkRGU_YAQ5E8LlIHRMB\n\nAfter registering\, yo
 u will receive a confirmation email containing information about joining t
 he meeting.
X-WR-RELCALID:68807263edcdfa5cffd6d80e5458630f
X-WR-TIMEZONE:America/Chicago
BEGIN:VTIMEZONE
TZID:America/Chicago
BEGIN:STANDARD
TZNAME:CST
DTSTART:20211107T020000
TZOFFSETFROM:-0500
TZOFFSETTO:-0600
RDATE:20221106T020000
RDATE:20231105T020000
END:STANDARD
BEGIN:DAYLIGHT
TZNAME:CDT
DTSTART:20220313T020000
TZOFFSETFROM:-0600
TZOFFSETTO:-0500
RDATE:20230312T020000
RDATE:20240310T020000
END:DAYLIGHT
END:VTIMEZONE
BEGIN:VEVENT
UID:5140d77e-6827-4488-bbae-f041a91057ee
DTSTAMP:20260424T231228Z
DESCRIPTION:The Legend of Spookily the Square Pumpkin\n\nYou are invited to
  a Zoom meeting.\nWhen: Oct 20\, 2022 10:00 AM Central Time (US and Canada
 )\n\nRegister in advance for this meeting:\nhttps://us02web.zoom.us/meetin
 g/register/tZckfu6rrTwjGtKToKkRGU_YAQ5E8LlIHRMB\n\nAfter registering\, you
  will receive a confirmation email containing information about joining th
 e meeting.
DTSTART;TZID=America/Chicago:20221020T100000
DTEND;TZID=America/Chicago:20221020T103000
LOCATION:
SUMMARY:The Legend of Spookily the Square Pumpkin
END:VEVENT
END:VCALENDAR
