BEGIN:VCALENDAR
VERSION:2.0
PRODID:-//midwestchildcare.org//NONSGML kigkonsult.se iCalcreator 2.30.10//
CALSCALE:GREGORIAN
METHOD:PUBLISH
UID:eacab8e6-9ce7-4f5e-bf45-c9f0d81bc700
X-WR-CALDESC:The Legend of Spookily the Square Pumpkin\n\nYou are invited t
 o a Zoom meeting.\nWhen: Oct 20\, 2022 09:00 AM Central Time (US and Canad
 a)\n\nRegister in advance for this meeting:\nhttps://us02web.zoom.us/meeti
 ng/register/tZwoc-GhpzsrGNWCAdi59jx_se7CMmhMdP57\n\nAfter registering\, yo
 u will receive a confirmation email containing information about joining t
 he meeting.
X-WR-RELCALID:8cefd89b04e4e1f5e32464642c298489
X-WR-TIMEZONE:America/Chicago
BEGIN:VTIMEZONE
TZID:America/Chicago
BEGIN:STANDARD
TZNAME:CST
DTSTART:20211107T020000
TZOFFSETFROM:-0500
TZOFFSETTO:-0600
RDATE:20221106T020000
RDATE:20231105T020000
END:STANDARD
BEGIN:DAYLIGHT
TZNAME:CDT
DTSTART:20220313T020000
TZOFFSETFROM:-0600
TZOFFSETTO:-0500
RDATE:20230312T020000
RDATE:20240310T020000
END:DAYLIGHT
END:VTIMEZONE
BEGIN:VEVENT
UID:abfd9b36-d7aa-44ac-b579-aba13b3edf63
DTSTAMP:20260424T232208Z
DESCRIPTION:The Legend of Spookily the Square Pumpkin\n\nYou are invited to
  a Zoom meeting.\nWhen: Oct 20\, 2022 09:00 AM Central Time (US and Canada
 )\n\nRegister in advance for this meeting:\nhttps://us02web.zoom.us/meetin
 g/register/tZwoc-GhpzsrGNWCAdi59jx_se7CMmhMdP57\n\nAfter registering\, you
  will receive a confirmation email containing information about joining th
 e meeting.
DTSTART;TZID=America/Chicago:20221020T090000
DTEND;TZID=America/Chicago:20221020T093000
LOCATION:
SUMMARY:The Legend of Spookily the Square Pumpkin
END:VEVENT
END:VCALENDAR
