BEGIN:VCALENDAR
VERSION:2.0
PRODID:-//midwestchildcare.org//NONSGML kigkonsult.se iCalcreator 2.30.10//
CALSCALE:GREGORIAN
METHOD:PUBLISH
UID:58080a9b-e152-4c55-a534-21b84e236b32
X-WR-CALDESC:Fremont Early Childhood Conference\nSaturday\, October 8\, 202
 2\n8:30am - 12:30pm\n\nFremont Church of the Nazarene\n960 N Johnson Road
 \nFremont\, NE 68025
X-WR-RELCALID:b7c70fbd7d03ba87b4f85a1312deafed
X-WR-TIMEZONE:America/Chicago
BEGIN:VTIMEZONE
TZID:America/Chicago
BEGIN:STANDARD
TZNAME:CST
DTSTART:20211107T020000
TZOFFSETFROM:-0500
TZOFFSETTO:-0600
RDATE:20221106T020000
RDATE:20231105T020000
END:STANDARD
BEGIN:DAYLIGHT
TZNAME:CDT
DTSTART:20220313T020000
TZOFFSETFROM:-0600
TZOFFSETTO:-0500
RDATE:20230312T020000
RDATE:20240310T020000
END:DAYLIGHT
END:VTIMEZONE
BEGIN:VEVENT
UID:0c6d5cbc-4831-4d8c-b70a-966ae0d96094
DTSTAMP:20260424T232059Z
DESCRIPTION:Fremont Early Childhood Conference\nSaturday\, October 8\, 2022
 \n8:30am - 12:30pm\n\nFremont Church of the Nazarene\n960 N Johnson Road\n
 Fremont\, NE 68025
DTSTART;TZID=America/Chicago:20221008T083000
DTEND;TZID=America/Chicago:20221008T123000
LOCATION:960 N Johnson Road\, Fremont\, NE 68925 US
SUMMARY:Fremont Early Childhood Conference
END:VEVENT
END:VCALENDAR
