BEGIN:VCALENDAR
VERSION:2.0
PRODID:-//midwestchildcare.org//NONSGML kigkonsult.se iCalcreator 2.30.10//
CALSCALE:GREGORIAN
METHOD:PUBLISH
UID:b93689cb-4c20-40d9-aca7-f69735390d13
X-WR-CALDESC:We Walk Through the Forest: An Interactive Preschool Class\n\n
 You are invited to a Zoom meeting.\nWhen: Oct 6\, 2022 10:00 AM Central Ti
 me (US and Canada)\n\nRegister in advance for this meeting:\nhttps://us02w
 eb.zoom.us/meeting/register/tZ0qduyuqjIiHN2bACusDh7COMNCvDdNykdi\n\nAfter 
 registering\, you will receive a confirmation email containing information
  about joining the meeting.
X-WR-RELCALID:61f68308d41003f0813832e6dc397c51
X-WR-TIMEZONE:America/Chicago
BEGIN:VTIMEZONE
TZID:America/Chicago
BEGIN:STANDARD
TZNAME:CST
DTSTART:20211107T020000
TZOFFSETFROM:-0500
TZOFFSETTO:-0600
RDATE:20221106T020000
RDATE:20231105T020000
END:STANDARD
BEGIN:DAYLIGHT
TZNAME:CDT
DTSTART:20220313T020000
TZOFFSETFROM:-0600
TZOFFSETTO:-0500
RDATE:20230312T020000
RDATE:20240310T020000
END:DAYLIGHT
END:VTIMEZONE
BEGIN:VEVENT
UID:e60bad22-2efa-41f6-b03f-c7c692cff95c
DTSTAMP:20260424T233000Z
DESCRIPTION:We Walk Through the Forest: An Interactive Preschool Class\n\nY
 ou are invited to a Zoom meeting.\nWhen: Oct 6\, 2022 10:00 AM Central Tim
 e (US and Canada)\n\nRegister in advance for this meeting:\nhttps://us02we
 b.zoom.us/meeting/register/tZ0qduyuqjIiHN2bACusDh7COMNCvDdNykdi\n\nAfter r
 egistering\, you will receive a confirmation email containing information 
 about joining the meeting.
DTSTART;TZID=America/Chicago:20221006T100000
DTEND;TZID=America/Chicago:20221006T103000
LOCATION:
SUMMARY:We Walk Through the Forest: An Interactive Preschool Class
END:VEVENT
END:VCALENDAR
