BEGIN:VCALENDAR
VERSION:2.0
PRODID:-//midwestchildcare.org//NONSGML kigkonsult.se iCalcreator 2.30.10//
CALSCALE:GREGORIAN
METHOD:PUBLISH
UID:f623b10d-616a-4e86-b6b1-f11c91439b41
X-WR-CALDESC:We Walk Through the Forest: An Interactive Preschool Class\n\n
 You are invited to a Zoom meeting.\nWhen: Oct 6\, 2022 09:30 AM Central Ti
 me (US and Canada)\n\nRegister in advance for this meeting:\nhttps://us02w
 eb.zoom.us/meeting/register/tZIlcO-vqTsuEtT05ag53xh7DfZ-bK7dPrv9\n\nAfter 
 registering\, you will receive a confirmation email containing information
  about joining the meeting.
X-WR-RELCALID:0f8217a6dbb6657f99f0b4ff67efd7b6
X-WR-TIMEZONE:America/Chicago
BEGIN:VTIMEZONE
TZID:America/Chicago
BEGIN:STANDARD
TZNAME:CST
DTSTART:20211107T020000
TZOFFSETFROM:-0500
TZOFFSETTO:-0600
RDATE:20221106T020000
RDATE:20231105T020000
END:STANDARD
BEGIN:DAYLIGHT
TZNAME:CDT
DTSTART:20220313T020000
TZOFFSETFROM:-0600
TZOFFSETTO:-0500
RDATE:20230312T020000
RDATE:20240310T020000
END:DAYLIGHT
END:VTIMEZONE
BEGIN:VEVENT
UID:207436a0-1824-4b73-b1ae-2b874aaef1c0
DTSTAMP:20260424T233626Z
DESCRIPTION:We Walk Through the Forest: An Interactive Preschool Class\n\nY
 ou are invited to a Zoom meeting.\nWhen: Oct 6\, 2022 09:30 AM Central Tim
 e (US and Canada)\n\nRegister in advance for this meeting:\nhttps://us02we
 b.zoom.us/meeting/register/tZIlcO-vqTsuEtT05ag53xh7DfZ-bK7dPrv9\n\nAfter r
 egistering\, you will receive a confirmation email containing information 
 about joining the meeting.
DTSTART;TZID=America/Chicago:20221006T093000
DTEND;TZID=America/Chicago:20221006T100000
LOCATION:
SUMMARY:We Walk Through the Forest: An Interactive Preschool Class
END:VEVENT
END:VCALENDAR
