BEGIN:VCALENDAR
VERSION:2.0
PRODID:-//midwestchildcare.org//NONSGML kigkonsult.se iCalcreator 2.30.10//
CALSCALE:GREGORIAN
METHOD:PUBLISH
UID:aa8965ff-dcc0-4205-97ab-49378f286f4a
X-WR-CALDESC:We Walk Through the Forest: An Interactive Preschool Class\n\n
 You are invited to a Zoom meeting.\nWhen: Oct 6\, 2022 09:00 AM Central Ti
 me (US and Canada)\n\nRegister in advance for this meeting:\nhttps://us02w
 eb.zoom.us/meeting/register/tZwvduygrzwtGNyT64GedO38L58Uxz1L-LJ6\n\nAfter 
 registering\, you will receive a confirmation email containing information
  about joining the meeting.
X-WR-RELCALID:660980ab4047c0d3e94f3268b68fa881
X-WR-TIMEZONE:America/Chicago
BEGIN:VTIMEZONE
TZID:America/Chicago
BEGIN:STANDARD
TZNAME:CST
DTSTART:20211107T020000
TZOFFSETFROM:-0500
TZOFFSETTO:-0600
RDATE:20221106T020000
RDATE:20231105T020000
END:STANDARD
BEGIN:DAYLIGHT
TZNAME:CDT
DTSTART:20220313T020000
TZOFFSETFROM:-0600
TZOFFSETTO:-0500
RDATE:20230312T020000
RDATE:20240310T020000
END:DAYLIGHT
END:VTIMEZONE
BEGIN:VEVENT
UID:db47ef24-a316-4316-9704-ff5c3f9c88e2
DTSTAMP:20260424T232402Z
DESCRIPTION:We Walk Through the Forest: An Interactive Preschool Class\n\nY
 ou are invited to a Zoom meeting.\nWhen: Oct 6\, 2022 09:00 AM Central Tim
 e (US and Canada)\n\nRegister in advance for this meeting:\nhttps://us02we
 b.zoom.us/meeting/register/tZwvduygrzwtGNyT64GedO38L58Uxz1L-LJ6\n\nAfter r
 egistering\, you will receive a confirmation email containing information 
 about joining the meeting.
DTSTART;TZID=America/Chicago:20221006T090000
DTEND;TZID=America/Chicago:20221006T093000
LOCATION:
SUMMARY:We Walk Through the Forest: An Interactive Preschool Class
END:VEVENT
END:VCALENDAR
