BEGIN:VCALENDAR
VERSION:2.0
PRODID:-//midwestchildcare.org//NONSGML kigkonsult.se iCalcreator 2.30.10//
CALSCALE:GREGORIAN
METHOD:PUBLISH
UID:59dc6803-53d4-40a1-bc74-ca9243cbea0d
X-WR-CALDESC:Hungry Bunny: An Interactive Preschool Class\n\nYou are invite
 d to a Zoom meeting.\nWhen: Sep 29\, 2022 09:30 AM Central Time (US and Ca
 nada)\n\nRegister in advance for this meeting:\nhttps://us02web.zoom.us/me
 eting/register/tZctc-ippjwtG9N9NPGFmkS8hFO04MvvJBsJ\n\nAfter registering\,
  you will receive a confirmation email containing information about joinin
 g the meeting.
X-WR-RELCALID:75efc0a6f9062fbfa7dc3acce1e275b3
X-WR-TIMEZONE:America/Chicago
BEGIN:VTIMEZONE
TZID:America/Chicago
BEGIN:STANDARD
TZNAME:CST
DTSTART:20211107T020000
TZOFFSETFROM:-0500
TZOFFSETTO:-0600
RDATE:20221106T020000
RDATE:20231105T020000
END:STANDARD
BEGIN:DAYLIGHT
TZNAME:CDT
DTSTART:20220313T020000
TZOFFSETFROM:-0600
TZOFFSETTO:-0500
RDATE:20230312T020000
RDATE:20240310T020000
END:DAYLIGHT
END:VTIMEZONE
BEGIN:VEVENT
UID:2290de74-e399-41e8-98dd-b778010f305a
DTSTAMP:20260425T010417Z
DESCRIPTION:Hungry Bunny: An Interactive Preschool Class\n\nYou are invited
  to a Zoom meeting.\nWhen: Sep 29\, 2022 09:30 AM Central Time (US and Can
 ada)\n\nRegister in advance for this meeting:\nhttps://us02web.zoom.us/mee
 ting/register/tZctc-ippjwtG9N9NPGFmkS8hFO04MvvJBsJ\n\nAfter registering\, 
 you will receive a confirmation email containing information about joining
  the meeting.
DTSTART;TZID=America/Chicago:20220929T093000
DTEND;TZID=America/Chicago:20220929T100000
LOCATION:
SUMMARY:Hungry Bunny: An Interactive Preschool Class
END:VEVENT
END:VCALENDAR
