BEGIN:VCALENDAR
VERSION:2.0
PRODID:-//midwestchildcare.org//NONSGML kigkonsult.se iCalcreator 2.30.10//
CALSCALE:GREGORIAN
METHOD:PUBLISH
UID:c75b4d5b-218e-48ec-b815-df536164bb31
X-WR-CALDESC:Hungry Bunny: An Interactive Preschool Class\n\nYou are invite
 d to a Zoom meeting.\nWhen: Sep 29\, 2022 09:00 AM Central Time (US and Ca
 nada)\n\nRegister in advance for this meeting:\nhttps://us02web.zoom.us/me
 eting/register/tZIkdOiprzoqHtKe8YU1Xez2lB_xn1e3PJ-D\n\nAfter registering\,
  you will receive a confirmation email containing information about joinin
 g the meeting.
X-WR-RELCALID:90598eae5534aef34bf78a72651d5e3a
X-WR-TIMEZONE:America/Chicago
BEGIN:VTIMEZONE
TZID:America/Chicago
BEGIN:STANDARD
TZNAME:CST
DTSTART:20211107T020000
TZOFFSETFROM:-0500
TZOFFSETTO:-0600
RDATE:20221106T020000
RDATE:20231105T020000
END:STANDARD
BEGIN:DAYLIGHT
TZNAME:CDT
DTSTART:20220313T020000
TZOFFSETFROM:-0600
TZOFFSETTO:-0500
RDATE:20230312T020000
RDATE:20240310T020000
END:DAYLIGHT
END:VTIMEZONE
BEGIN:VEVENT
UID:fc039535-c258-49cc-8d04-127b106a36cd
DTSTAMP:20260425T010456Z
DESCRIPTION:Hungry Bunny: An Interactive Preschool Class\n\nYou are invited
  to a Zoom meeting.\nWhen: Sep 29\, 2022 09:00 AM Central Time (US and Can
 ada)\n\nRegister in advance for this meeting:\nhttps://us02web.zoom.us/mee
 ting/register/tZIkdOiprzoqHtKe8YU1Xez2lB_xn1e3PJ-D\n\nAfter registering\, 
 you will receive a confirmation email containing information about joining
  the meeting.
DTSTART;TZID=America/Chicago:20220929T090000
DTEND;TZID=America/Chicago:20220929T093000
LOCATION:
SUMMARY:Hungry Bunny: An Interactive Preschool Class
END:VEVENT
END:VCALENDAR
