BEGIN:VCALENDAR
VERSION:2.0
PRODID:-//midwestchildcare.org//NONSGML kigkonsult.se iCalcreator 2.30.10//
CALSCALE:GREGORIAN
METHOD:PUBLISH
UID:112f7c12-6422-43c4-b3e3-574c0cb438ba
X-WR-CALDESC:Beans the Magical Fruit! Increasing this Power Food! | Webinar
 \n\nPlease register for Ideas to Increase Fruit and Vegetable intake on Se
 p 23\, 2022 1:00 PM CDT at:\n\nhttps://attendee.gotowebinar.com/register/8
 393788739849360910\n\nAfter registering\, you will receive a confirmation 
 email containing information about joining the webinar.\n
X-WR-RELCALID:01d9f79757678d8249c1704746066737
X-WR-TIMEZONE:America/Chicago
BEGIN:VTIMEZONE
TZID:America/Chicago
BEGIN:STANDARD
TZNAME:CST
DTSTART:20211107T020000
TZOFFSETFROM:-0500
TZOFFSETTO:-0600
RDATE:20221106T020000
RDATE:20231105T020000
END:STANDARD
BEGIN:DAYLIGHT
TZNAME:CDT
DTSTART:20220313T020000
TZOFFSETFROM:-0600
TZOFFSETTO:-0500
RDATE:20230312T020000
RDATE:20240310T020000
END:DAYLIGHT
END:VTIMEZONE
BEGIN:VEVENT
UID:8f195d33-22a4-4669-b152-2981ca11f7b4
DTSTAMP:20260425T005734Z
DESCRIPTION:Beans the Magical Fruit! Increasing this Power Food! | Webinar
 \n\nPlease register for Ideas to Increase Fruit and Vegetable intake on Se
 p 23\, 2022 1:00 PM CDT at:\n\nhttps://attendee.gotowebinar.com/register/8
 393788739849360910\n\nAfter registering\, you will receive a confirmation 
 email containing information about joining the webinar.\n
DTSTART;TZID=America/Chicago:20220923T130000
DTEND;TZID=America/Chicago:20220923T140000
LOCATION:https://attendee.gotowebinar.com/register/8393788739849360910
SUMMARY:Beans the Magical Fruit! Increasing this Power Food! | Webinar
END:VEVENT
END:VCALENDAR
