BEGIN:VCALENDAR
VERSION:2.0
PRODID:-//midwestchildcare.org//NONSGML kigkonsult.se iCalcreator 2.30.10//
CALSCALE:GREGORIAN
METHOD:PUBLISH
UID:2d4fae81-4cdb-44c6-843a-3c99d83ffd58
X-WR-CALDESC:Shiver Me Letters: A Pirate ABC Interactive Preschool Class\n
 \nYou are invited to a Zoom meeting.\nWhen: Sep 15\, 2022 09:30 AM Central
  Time (US and Canada)\n\nRegister in advance for this meeting:\nhttps://us
 02web.zoom.us/meeting/register/tZcpfuCtqTMpHNUf5TVTCPEtEze9KLc3mapJ\n\nAft
 er registering\, you will receive a confirmation email containing informat
 ion about joining the meeting.
X-WR-RELCALID:a0e1652c34f9cb502459b6156c75fd48
X-WR-TIMEZONE:America/Chicago
BEGIN:VTIMEZONE
TZID:America/Chicago
BEGIN:STANDARD
TZNAME:CST
DTSTART:20211107T020000
TZOFFSETFROM:-0500
TZOFFSETTO:-0600
RDATE:20221106T020000
RDATE:20231105T020000
END:STANDARD
BEGIN:DAYLIGHT
TZNAME:CDT
DTSTART:20220313T020000
TZOFFSETFROM:-0600
TZOFFSETTO:-0500
RDATE:20230312T020000
RDATE:20240310T020000
END:DAYLIGHT
END:VTIMEZONE
BEGIN:VEVENT
UID:6892a4c0-7784-4720-86de-2ec29d1c1340
DTSTAMP:20260425T005901Z
DESCRIPTION:Shiver Me Letters: A Pirate ABC Interactive Preschool Class\n\n
 You are invited to a Zoom meeting.\nWhen: Sep 15\, 2022 09:30 AM Central T
 ime (US and Canada)\n\nRegister in advance for this meeting:\nhttps://us02
 web.zoom.us/meeting/register/tZcpfuCtqTMpHNUf5TVTCPEtEze9KLc3mapJ\n\nAfter
  registering\, you will receive a confirmation email containing informatio
 n about joining the meeting.
DTSTART;TZID=America/Chicago:20220915T093000
DTEND;TZID=America/Chicago:20220915T100000
LOCATION:
SUMMARY:Shiver Me Letters: A Pirate ABC Interactive Preschool Class
END:VEVENT
END:VCALENDAR
