BEGIN:VCALENDAR
VERSION:2.0
PRODID:-//midwestchildcare.org//NONSGML kigkonsult.se iCalcreator 2.30.10//
CALSCALE:GREGORIAN
METHOD:PUBLISH
UID:b8fe2df5-1d8f-43ad-86e8-579f5965d5bf
X-WR-CALDESC:EMS Safety Childcare Provider - September Class\n\nMidwest Chi
 ldcare Association - Sep\n\nClass Number\n29251772\n\nClass Start Date\n09
 /15/2022\n\nClass Time\n6:00 PM - 10:00 PM\n\nLocation	\n4505 S 96th St \nO
 maha\, NE 68127\n\nSelf Paced Program: Can't make a class or prefer to go 
 through the material at your own pace? We can register you for a Self Pace
 d Program followed by a Hands On Portion (takes about 20 mins for Hands On
 ). Inquire via email to: mattsafetytraining@gmail.com\n\nGroup Class: Do y
 ou have 8+ people needing certification/recertification and would like to 
 organize a class at your center/in-home or at our training facility? Inqui
 re via email to: mattsafetytraining@gmail.com\n\n***We are constantly addi
 ng new classes. Check out our Website under the Training Calendar for clas
 ses and registration***\nwww.topnotchtrainingcourses.com
X-WR-RELCALID:4be731629a1ee243dfeb3252b188f5a6
X-WR-TIMEZONE:America/Chicago
BEGIN:VTIMEZONE
TZID:America/Chicago
BEGIN:STANDARD
TZNAME:CST
DTSTART:20211107T020000
TZOFFSETFROM:-0500
TZOFFSETTO:-0600
RDATE:20221106T020000
RDATE:20231105T020000
END:STANDARD
BEGIN:DAYLIGHT
TZNAME:CDT
DTSTART:20220313T020000
TZOFFSETFROM:-0600
TZOFFSETTO:-0500
RDATE:20230312T020000
RDATE:20240310T020000
END:DAYLIGHT
END:VTIMEZONE
BEGIN:VEVENT
UID:0df62b0b-1c03-4dc5-b59a-06c843e19aa5
DTSTAMP:20260425T010415Z
DESCRIPTION:EMS Safety Childcare Provider - September Class\n\nMidwest Chil
 dcare Association - Sep\n\nClass Number\n29251772\n\nClass Start Date\n09/
 15/2022\n\nClass Time\n6:00 PM - 10:00 PM\n\nLocation	\n4505 S 96th St \nOm
 aha\, NE 68127\n\nSelf Paced Program: Can't make a class or prefer to go t
 hrough the material at your own pace? We can register you for a Self Paced
  Program followed by a Hands On Portion (takes about 20 mins for Hands On)
 . Inquire via email to: mattsafetytraining@gmail.com\n\nGroup Class: Do yo
 u have 8+ people needing certification/recertification and would like to o
 rganize a class at your center/in-home or at our training facility? Inquir
 e via email to: mattsafetytraining@gmail.com\n\n***We are constantly addin
 g new classes. Check out our Website under the Training Calendar for class
 es and registration***\nwww.topnotchtrainingcourses.com
DTSTART;TZID=America/Chicago:20220915T180000
DTEND;TZID=America/Chicago:20220915T220000
LOCATION:4505 S 96th St  \, Omaha\, NE 68127 US
SUMMARY:EMS Safety Childcare Provider
END:VEVENT
END:VCALENDAR
