BEGIN:VCALENDAR
VERSION:2.0
PRODID:-//midwestchildcare.org//NONSGML kigkonsult.se iCalcreator 2.30.10//
CALSCALE:GREGORIAN
METHOD:PUBLISH
UID:11798198-0e60-4c4e-b412-fcbd8865b18e
X-WR-CALDESC:Beans the Magical Fruit! Increasing this Power Food! | Webinar
 \nPlease register for Beans the Magical Fruit! Increasing this Power Food!
  on Sep 12\, 2022 7:00 PM CDT at:\n\nhttps://attendee.gotowebinar.com/regi
 ster/6559762662788722448\n\nAfter registering\, you will receive a confirm
 ation email containing information about joining the webinar.
X-WR-RELCALID:b4ab51bb976e3d84d3fef4bc22c471d0
X-WR-TIMEZONE:America/Chicago
BEGIN:VTIMEZONE
TZID:America/Chicago
BEGIN:STANDARD
TZNAME:CST
DTSTART:20211107T020000
TZOFFSETFROM:-0500
TZOFFSETTO:-0600
RDATE:20221106T020000
RDATE:20231105T020000
END:STANDARD
BEGIN:DAYLIGHT
TZNAME:CDT
DTSTART:20220313T020000
TZOFFSETFROM:-0600
TZOFFSETTO:-0500
RDATE:20230312T020000
RDATE:20240310T020000
END:DAYLIGHT
END:VTIMEZONE
BEGIN:VEVENT
UID:e83bdc23-c013-4b52-ba4a-adaf98b1cbfc
DTSTAMP:20260425T010713Z
DESCRIPTION:Beans the Magical Fruit! Increasing this Power Food! | Webinar
 \nPlease register for Beans the Magical Fruit! Increasing this Power Food!
  on Sep 12\, 2022 7:00 PM CDT at:\n\nhttps://attendee.gotowebinar.com/regi
 ster/6559762662788722448\n\nAfter registering\, you will receive a confirm
 ation email containing information about joining the webinar.
DTSTART;TZID=America/Chicago:20220912T190000
DTEND;TZID=America/Chicago:20220912T200000
LOCATION:https://attendee.gotowebinar.com/register/6559762662788722448
SUMMARY:Beans the Magical Fruit! Increasing this Power Food! | Webinar
END:VEVENT
END:VCALENDAR
