BEGIN:VCALENDAR
VERSION:2.0
PRODID:-//midwestchildcare.org//NONSGML kigkonsult.se iCalcreator 2.30.10//
CALSCALE:GREGORIAN
METHOD:PUBLISH
UID:2bb6c81b-9920-43e7-a421-787c59f5bc3d
X-WR-CALDESC:The Yawns are Coming! An Interactive Preschool Class\n\nYou ar
 e invited to a Zoom meeting.\nWhen: Sep 8\, 2022 09:00 AM Central Time (US
  and Canada)\n\nRegister in advance for this meeting:\nhttps://us02web.zoo
 m.us/meeting/register/tZ0ucOqgqjotHdV_r-OMq8n6VOWf7fd9laz6\n\nAfter regist
 ering\, you will receive a confirmation email containing information about
  joining the meeting.
X-WR-RELCALID:6a55017920f3ce08077a133b5ba89991
X-WR-TIMEZONE:America/Chicago
BEGIN:VTIMEZONE
TZID:America/Chicago
BEGIN:STANDARD
TZNAME:CST
DTSTART:20211107T020000
TZOFFSETFROM:-0500
TZOFFSETTO:-0600
RDATE:20221106T020000
RDATE:20231105T020000
END:STANDARD
BEGIN:DAYLIGHT
TZNAME:CDT
DTSTART:20220313T020000
TZOFFSETFROM:-0600
TZOFFSETTO:-0500
RDATE:20230312T020000
END:DAYLIGHT
END:VTIMEZONE
BEGIN:VEVENT
UID:11f0102f-36ac-4688-b263-471d50229b62
DTSTAMP:20260425T012649Z
DESCRIPTION:The Yawns are Coming! An Interactive Preschool Class\n\nYou are
  invited to a Zoom meeting.\nWhen: Sep 8\, 2022 09:00 AM Central Time (US 
 and Canada)\n\nRegister in advance for this meeting:\nhttps://us02web.zoom
 .us/meeting/register/tZ0ucOqgqjotHdV_r-OMq8n6VOWf7fd9laz6\n\nAfter registe
 ring\, you will receive a confirmation email containing information about 
 joining the meeting.
DTSTART;TZID=America/Chicago:20220908T090000
DTEND;TZID=America/Chicago:20220908T093000
LOCATION:
SUMMARY:The Yawns are Coming! An Interactive Preschool Class
END:VEVENT
END:VCALENDAR
