BEGIN:VCALENDAR
VERSION:2.0
PRODID:-//midwestchildcare.org//NONSGML kigkonsult.se iCalcreator 2.30.10//
CALSCALE:GREGORIAN
METHOD:PUBLISH
UID:64437c05-2eea-4c6d-a169-e7d11581a733
X-WR-CALDESC:The Yawns are Coming! An Interactive Preschool Class\n\nYou ar
 e invited to a Zoom meeting.\nWhen: Sep 8\, 2022 10:00 AM Central Time (US
  and Canada)\n\nRegister in advance for this meeting:\nhttps://us02web.zoo
 m.us/meeting/register/tZIlc-mvrzwuE9PpzM9JfONXXnaczH1Arxhs\n\nAfter regist
 ering\, you will receive a confirmation email containing information about
  joining the meeting.
X-WR-RELCALID:5e8f5cc70d580b502e858cb334783c24
X-WR-TIMEZONE:America/Chicago
BEGIN:VTIMEZONE
TZID:America/Chicago
BEGIN:STANDARD
TZNAME:CST
DTSTART:20211107T020000
TZOFFSETFROM:-0500
TZOFFSETTO:-0600
RDATE:20221106T020000
RDATE:20231105T020000
END:STANDARD
BEGIN:DAYLIGHT
TZNAME:CDT
DTSTART:20220313T020000
TZOFFSETFROM:-0600
TZOFFSETTO:-0500
RDATE:20230312T020000
END:DAYLIGHT
END:VTIMEZONE
BEGIN:VEVENT
UID:6f4796d1-4902-41b3-a6f2-f5f931d04e9d
DTSTAMP:20260425T010215Z
DESCRIPTION:The Yawns are Coming! An Interactive Preschool Class\n\nYou are
  invited to a Zoom meeting.\nWhen: Sep 8\, 2022 10:00 AM Central Time (US 
 and Canada)\n\nRegister in advance for this meeting:\nhttps://us02web.zoom
 .us/meeting/register/tZIlc-mvrzwuE9PpzM9JfONXXnaczH1Arxhs\n\nAfter registe
 ring\, you will receive a confirmation email containing information about 
 joining the meeting.
DTSTART;TZID=America/Chicago:20220908T100000
DTEND;TZID=America/Chicago:20220908T103000
LOCATION:
SUMMARY:The Yawns are Coming! An Interactive Preschool Class
END:VEVENT
END:VCALENDAR
