BEGIN:VCALENDAR
VERSION:2.0
PRODID:-//midwestchildcare.org//NONSGML kigkonsult.se iCalcreator 2.30.10//
CALSCALE:GREGORIAN
METHOD:PUBLISH
UID:b1e2ce0a-cb26-4baa-9432-373af5a5b940
X-WR-CALDESC:EMS Safety Childcare Provider \n\nTop Notch 6 - Zoom + Hands O
 n\n\nClass Number: 29251766\nClass Start Date:09/08/2022 \nClass Time: 6:0
 0 PM - 10:00 PM\nLocation:4505 S 96th St \nOmaha\, NE 68127\n\n\n\nSelf Pa
 ced Program: Can't make a class or prefer to go through the material at yo
 ur own pace? We can register you for a Self Paced Program followed by a Ha
 nds On Portion (takes about 20 mins for Hands On). Inquire via email to: m
 attsafetytraining@gmail.com\n\nGroup Class: Do you have 8+ people needing 
 certification/recertification and would like to organize a class at your c
 enter/in-home or at our training facility? Inquire via email to: mattsafet
 ytraining@gmail.com\n\n***We are constantly adding new classes. Check out 
 our Website under the Training Calendar for classes and registration***\nw
 ww.topnotchtrainingcourses.com \n\n
X-WR-RELCALID:3df9bd2b41874eeea70f36b8a5869b84
X-WR-TIMEZONE:America/Chicago
BEGIN:VTIMEZONE
TZID:America/Chicago
BEGIN:STANDARD
TZNAME:CST
DTSTART:20211107T020000
TZOFFSETFROM:-0500
TZOFFSETTO:-0600
RDATE:20221106T020000
RDATE:20231105T020000
END:STANDARD
BEGIN:DAYLIGHT
TZNAME:CDT
DTSTART:20220313T020000
TZOFFSETFROM:-0600
TZOFFSETTO:-0500
RDATE:20230312T020000
END:DAYLIGHT
END:VTIMEZONE
BEGIN:VEVENT
UID:ac135c42-b804-4067-9189-a1f2a8c083bd
DTSTAMP:20260425T010810Z
DESCRIPTION:EMS Safety Childcare Provider \n\nTop Notch 6 - Zoom + Hands On
 \n\nClass Number: 29251766\nClass Start Date:09/08/2022 \nClass Time: 6:00
  PM - 10:00 PM\nLocation:4505 S 96th St \nOmaha\, NE 68127\n\n\n\nSelf Pac
 ed Program: Can't make a class or prefer to go through the material at you
 r own pace? We can register you for a Self Paced Program followed by a Han
 ds On Portion (takes about 20 mins for Hands On). Inquire via email to: ma
 ttsafetytraining@gmail.com\n\nGroup Class: Do you have 8+ people needing c
 ertification/recertification and would like to organize a class at your ce
 nter/in-home or at our training facility? Inquire via email to: mattsafety
 training@gmail.com\n\n***We are constantly adding new classes. Check out o
 ur Website under the Training Calendar for classes and registration***\nww
 w.topnotchtrainingcourses.com \n\n
DTSTART;TZID=America/Chicago:20220908T180000
DTEND;TZID=America/Chicago:20220908T220000
LOCATION:
SUMMARY:EMS Safety Childcare Provider: Zoom and Hands On
END:VEVENT
END:VCALENDAR
