BEGIN:VCALENDAR
VERSION:2.0
PRODID:-//midwestchildcare.org//NONSGML kigkonsult.se iCalcreator 2.30.10//
CALSCALE:GREGORIAN
METHOD:PUBLISH
UID:c903fc4f-3381-48a6-9e79-ca46cda45e4c
X-WR-CALDESC:Grumpy Monkey | Interactive Preschool Class\n\nYou are invited
  to a Zoom meeting. \nWhen: Aug 25\, 2022 10:00 AM Central Time (US and Ca
 nada) \n\nRegister in advance for this meeting:\nhttps://us02web.zoom.us/m
 eeting/register/tZwtdeiprzMsGNLj-6hzC--mqSEAW4AVcnS- \n\nAfter registering
 \, you will receive a confirmation email containing information about join
 ing the meeting.
X-WR-RELCALID:46347bf40ea79b532ca4de0e7ffd7573
X-WR-TIMEZONE:America/Chicago
BEGIN:VTIMEZONE
TZID:America/Chicago
BEGIN:STANDARD
TZNAME:CST
DTSTART:20211107T020000
TZOFFSETFROM:-0500
TZOFFSETTO:-0600
RDATE:20221106T020000
RDATE:20231105T020000
END:STANDARD
BEGIN:DAYLIGHT
TZNAME:CDT
DTSTART:20220313T020000
TZOFFSETFROM:-0600
TZOFFSETTO:-0500
RDATE:20230312T020000
END:DAYLIGHT
END:VTIMEZONE
BEGIN:VEVENT
UID:5aebc367-5449-4a1b-b721-c4d0a3728985
DTSTAMP:20260425T024930Z
DESCRIPTION:Grumpy Monkey | Interactive Preschool Class\n\nYou are invited 
 to a Zoom meeting. \nWhen: Aug 25\, 2022 10:00 AM Central Time (US and Can
 ada) \n\nRegister in advance for this meeting:\nhttps://us02web.zoom.us/me
 eting/register/tZwtdeiprzMsGNLj-6hzC--mqSEAW4AVcnS- \n\nAfter registering\
 , you will receive a confirmation email containing information about joini
 ng the meeting.
DTSTART;TZID=America/Chicago:20220825T100000
DTEND;TZID=America/Chicago:20220825T103000
LOCATION:
SUMMARY:Grumpy Monkey | Interactive Preschool Class
END:VEVENT
END:VCALENDAR
