BEGIN:VCALENDAR
VERSION:2.0
PRODID:-//midwestchildcare.org//NONSGML kigkonsult.se iCalcreator 2.30.10//
CALSCALE:GREGORIAN
METHOD:PUBLISH
UID:4de3a8e3-f488-4462-ad8b-b28605fb7786
X-WR-CALDESC:Grumpy Monkey | Interactive Preschool Class\n\nYou are invited
  to a Zoom meeting. \nWhen: Aug 25\, 2022 09:00 AM Central Time (US and Ca
 nada) \n\nRegister in advance for this meeting:\nhttps://us02web.zoom.us/m
 eeting/register/tZYpcuGqqzgoHtYRAEGEFdM3MRURvFn_dD5E \n\nAfter registering
 \, you will receive a confirmation email containing information about join
 ing the meeting.
X-WR-RELCALID:8b5e2190ca34d36209fe06ba0913fa4f
X-WR-TIMEZONE:America/Chicago
BEGIN:VTIMEZONE
TZID:America/Chicago
BEGIN:STANDARD
TZNAME:CST
DTSTART:20211107T020000
TZOFFSETFROM:-0500
TZOFFSETTO:-0600
RDATE:20221106T020000
RDATE:20231105T020000
END:STANDARD
BEGIN:DAYLIGHT
TZNAME:CDT
DTSTART:20220313T020000
TZOFFSETFROM:-0600
TZOFFSETTO:-0500
RDATE:20230312T020000
END:DAYLIGHT
END:VTIMEZONE
BEGIN:VEVENT
UID:4b7a3156-8c0c-4b42-a7dd-5d3b16681185
DTSTAMP:20260425T030001Z
DESCRIPTION:Grumpy Monkey | Interactive Preschool Class\n\nYou are invited 
 to a Zoom meeting. \nWhen: Aug 25\, 2022 09:00 AM Central Time (US and Can
 ada) \n\nRegister in advance for this meeting:\nhttps://us02web.zoom.us/me
 eting/register/tZYpcuGqqzgoHtYRAEGEFdM3MRURvFn_dD5E \n\nAfter registering\
 , you will receive a confirmation email containing information about joini
 ng the meeting.
DTSTART;TZID=America/Chicago:20220825T090000
DTEND;TZID=America/Chicago:20220825T093000
LOCATION:
SUMMARY:Grumpy Monkey | Interactive Preschool Class
END:VEVENT
END:VCALENDAR
