BEGIN:VCALENDAR
VERSION:2.0
PRODID:-//midwestchildcare.org//NONSGML kigkonsult.se iCalcreator 2.30.10//
CALSCALE:GREGORIAN
METHOD:PUBLISH
UID:479e0154-b2aa-4235-9664-7622a5e7eddb
X-WR-CALDESC:EMS Safety Childcare Provider - August Class\n\nTop Notch Trai
 ning - 7\n\nClass Number\n29251748\n\nClass Start Date\n08/18/2022\n\nClas
 s Time\n6:00 PM - 10:00 PM\n\nLocation	\n4505 S 96th St \nOmaha\, NE 68127
 \n\nSelf Paced Program: Can't make a class or prefer to go through the mat
 erial at your own pace? We can register you for a Self Paced Program follo
 wed by a Hands On Portion (takes about 20 mins for Hands On). Inquire via 
 email to: mattsafetytraining@gmail.com\n\nGroup Class: Do you have 8+ peop
 le needing certification/recertification and would like to organize a clas
 s at your center/in-home or at our training facility? Inquire via email to
 : mattsafetytraining@gmail.com\n\n***We are constantly adding new classes.
  Check out our Website under the Training Calendar for classes and registr
 ation***\nwww.topnotchtrainingcourses.com
X-WR-RELCALID:229f6ad325505c65ab4442911fe461b0
X-WR-TIMEZONE:America/Chicago
BEGIN:VTIMEZONE
TZID:America/Chicago
BEGIN:STANDARD
TZNAME:CST
DTSTART:20211107T020000
TZOFFSETFROM:-0500
TZOFFSETTO:-0600
RDATE:20221106T020000
RDATE:20231105T020000
END:STANDARD
BEGIN:DAYLIGHT
TZNAME:CDT
DTSTART:20220313T020000
TZOFFSETFROM:-0600
TZOFFSETTO:-0500
RDATE:20230312T020000
END:DAYLIGHT
END:VTIMEZONE
BEGIN:VEVENT
UID:fd691cad-8edc-465c-a249-c07719d1572f
DTSTAMP:20260425T025048Z
DESCRIPTION:EMS Safety Childcare Provider - August Class\n\nTop Notch Train
 ing - 7\n\nClass Number\n29251748\n\nClass Start Date\n08/18/2022\n\nClass
  Time\n6:00 PM - 10:00 PM\n\nLocation	\n4505 S 96th St \nOmaha\, NE 68127\n
 \nSelf Paced Program: Can't make a class or prefer to go through the mater
 ial at your own pace? We can register you for a Self Paced Program followe
 d by a Hands On Portion (takes about 20 mins for Hands On). Inquire via em
 ail to: mattsafetytraining@gmail.com\n\nGroup Class: Do you have 8+ people
  needing certification/recertification and would like to organize a class 
 at your center/in-home or at our training facility? Inquire via email to: 
 mattsafetytraining@gmail.com\n\n***We are constantly adding new classes. C
 heck out our Website under the Training Calendar for classes and registrat
 ion***\nwww.topnotchtrainingcourses.com
DTSTART;TZID=America/Chicago:20220818T180000
DTEND;TZID=America/Chicago:20220818T220000
LOCATION:4505 S 96th St  \, Omaha\, NE 68127 US
SUMMARY:EMS Safety Childcare Provider
END:VEVENT
END:VCALENDAR
