BEGIN:VCALENDAR
VERSION:2.0
PRODID:-//midwestchildcare.org//NONSGML kigkonsult.se iCalcreator 2.30.10//
CALSCALE:GREGORIAN
METHOD:PUBLISH
UID:90e22ac8-015c-4b67-9289-500ca9411d62
X-WR-CALDESC:Please register for Fall Food and Activity Ideas on Aug 15\, 2
 022 1:00 PM CDT at:\n\nhttps://attendee.gotowebinar.com/register/110772210
 5930760462\n\nAfter registering\, you will receive a confirmation email co
 ntaining information about joining the webinar.\n
X-WR-RELCALID:186da81f3ffccea198ac3a6e8e042b79
X-WR-TIMEZONE:America/Chicago
BEGIN:VTIMEZONE
TZID:America/Chicago
BEGIN:STANDARD
TZNAME:CST
DTSTART:20211107T020000
TZOFFSETFROM:-0500
TZOFFSETTO:-0600
RDATE:20221106T020000
RDATE:20231105T020000
END:STANDARD
BEGIN:DAYLIGHT
TZNAME:CDT
DTSTART:20220313T020000
TZOFFSETFROM:-0600
TZOFFSETTO:-0500
RDATE:20230312T020000
END:DAYLIGHT
END:VTIMEZONE
BEGIN:VEVENT
UID:575976c0-79cd-491a-862e-18dbcb45a9d3
DTSTAMP:20260425T024930Z
DESCRIPTION:Please register for Fall Food and Activity Ideas on Aug 15\, 20
 22 1:00 PM CDT at:\n\nhttps://attendee.gotowebinar.com/register/1107722105
 930760462\n\nAfter registering\, you will receive a confirmation email con
 taining information about joining the webinar.\n
DTSTART;TZID=America/Chicago:20220815T130000
DTEND;TZID=America/Chicago:20220815T140000
LOCATION:
SUMMARY:Webinar: Fall Food and Activity Ideas
END:VEVENT
END:VCALENDAR
