BEGIN:VCALENDAR
VERSION:2.0
PRODID:-//midwestchildcare.org//NONSGML kigkonsult.se iCalcreator 2.30.10//
CALSCALE:GREGORIAN
METHOD:PUBLISH
UID:60104737-4615-4f52-96ce-7a2eb56da10d
X-WR-CALDESC:Webinar: Development of Speech and Language\n\nSaturday\, Augu
 st 13th\n9:30 am – 10:30 am\nKayla Skaggs\, a speech-language pathologist 
 from Boys Town National Research Hospital\, will share information on the 
 general development of speech and language skills for children age 0 to 5 
 and talk about how to communicate concerns to parents. She’ll also share i
 nformation on who to refer families to if concerns are present and will an
 swer questions from attendees. Attendees can opt to have their attendance 
 reported through the Nebraska Early Childhood Professional Record System (
 NECPRS) to earn an hour of credit for the training. \n\nEmail screenings@b
 oystown.org with questions or register at\nhttps://btmeeting.webex.com/btm
 eeting/j.php?RGID=r74c50316011e8c6b2bc911da39193121. \n\nAfter registering
 \, you will receive a confirmation email containing information about join
 ing the webinar.
X-WR-RELCALID:b12445bbfc439a3a36df63ba3eee419c
X-WR-TIMEZONE:America/Chicago
BEGIN:VTIMEZONE
TZID:America/Chicago
BEGIN:STANDARD
TZNAME:CST
DTSTART:20211107T020000
TZOFFSETFROM:-0500
TZOFFSETTO:-0600
RDATE:20221106T020000
RDATE:20231105T020000
END:STANDARD
BEGIN:DAYLIGHT
TZNAME:CDT
DTSTART:20220313T020000
TZOFFSETFROM:-0600
TZOFFSETTO:-0500
RDATE:20230312T020000
END:DAYLIGHT
END:VTIMEZONE
BEGIN:VEVENT
UID:99e3161f-6547-44d9-b68d-e5a69ff84898
DTSTAMP:20260425T025215Z
DESCRIPTION:Webinar: Development of Speech and Language\n\nSaturday\, Augus
 t 13th\n9:30 am – 10:30 am\nKayla Skaggs\, a speech-language pathologist f
 rom Boys Town National Research Hospital\, will share information on the g
 eneral development of speech and language skills for children age 0 to 5 a
 nd talk about how to communicate concerns to parents. She’ll also share in
 formation on who to refer families to if concerns are present and will ans
 wer questions from attendees. Attendees can opt to have their attendance r
 eported through the Nebraska Early Childhood Professional Record System (N
 ECPRS) to earn an hour of credit for the training. \n\nEmail screenings@bo
 ystown.org with questions or register at\nhttps://btmeeting.webex.com/btme
 eting/j.php?RGID=r74c50316011e8c6b2bc911da39193121. \n\nAfter registering\
 , you will receive a confirmation email containing information about joini
 ng the webinar.
DTSTART;TZID=America/Chicago:20220813T093000
DTEND;TZID=America/Chicago:20220813T103000
LOCATION:
SUMMARY:Webinar: Development of Speech and Language
END:VEVENT
END:VCALENDAR
