BEGIN:VCALENDAR
VERSION:2.0
PRODID:-//midwestchildcare.org//NONSGML kigkonsult.se iCalcreator 2.30.10//
CALSCALE:GREGORIAN
METHOD:PUBLISH
UID:2773326a-df2a-4a8c-9a4a-b32fb47e5b16
X-WR-CALDESC:EMS Safety Childcare Provider \n\nTop Notch Training - Renewal
  Class - August\n\nClass Number: 29251752\nClass Start Date:08/11/2022 \nC
 lass Time: 6:00 PM - 8:30 PM\n\nLocation:\n4505 S 96th St \nOmaha\, NE 681
 27\n\n(**Renewal Class Only** Must have proof of Current Certification)\n
 \nSelf Paced Program: Can't make a class or prefer to go through the mater
 ial at your own pace? We can register you for a Self Paced Program followe
 d by a Hands On Portion (takes about 20 mins for Hands On). Inquire via em
 ail to: mattsafetytraining@gmail.com\n\nGroup Class: Do you have 8+ people
  needing certification/recertification and would like to organize a class 
 at your center/in-home or at our training facility? Inquire via email to: 
 mattsafetytraining@gmail.com\n\n***We are constantly adding new classes. C
 heck out our Website under the Training Calendar for classes and registrat
 ion***\nwww.topnotchtrainingcourses.com
X-WR-RELCALID:8125b6be9dc985d7eee335e9448454b2
X-WR-TIMEZONE:America/Chicago
BEGIN:VTIMEZONE
TZID:America/Chicago
BEGIN:STANDARD
TZNAME:CST
DTSTART:20211107T020000
TZOFFSETFROM:-0500
TZOFFSETTO:-0600
RDATE:20221106T020000
RDATE:20231105T020000
END:STANDARD
BEGIN:DAYLIGHT
TZNAME:CDT
DTSTART:20220313T020000
TZOFFSETFROM:-0600
TZOFFSETTO:-0500
RDATE:20230312T020000
END:DAYLIGHT
END:VTIMEZONE
BEGIN:VEVENT
UID:39c136e3-3867-485f-89c5-db723ee7e80c
DTSTAMP:20260425T024843Z
DESCRIPTION:EMS Safety Childcare Provider \n\nTop Notch Training - Renewal 
 Class - August\n\nClass Number: 29251752\nClass Start Date:08/11/2022 \nCl
 ass Time: 6:00 PM - 8:30 PM\n\nLocation:\n4505 S 96th St \nOmaha\, NE 6812
 7\n\n(**Renewal Class Only** Must have proof of Current Certification)\n\n
 Self Paced Program: Can't make a class or prefer to go through the materia
 l at your own pace? We can register you for a Self Paced Program followed 
 by a Hands On Portion (takes about 20 mins for Hands On). Inquire via emai
 l to: mattsafetytraining@gmail.com\n\nGroup Class: Do you have 8+ people n
 eeding certification/recertification and would like to organize a class at
  your center/in-home or at our training facility? Inquire via email to: ma
 ttsafetytraining@gmail.com\n\n***We are constantly adding new classes. Che
 ck out our Website under the Training Calendar for classes and registratio
 n***\nwww.topnotchtrainingcourses.com
DTSTART;TZID=America/Chicago:20220811T180000
DTEND;TZID=America/Chicago:20220811T203000
LOCATION:4505 S 96th St\, Omaha\, NE 68127 US
SUMMARY:Renewal: EMS Safety Childcare Provider
END:VEVENT
END:VCALENDAR
