BEGIN:VCALENDAR
VERSION:2.0
PRODID:-//midwestchildcare.org//NONSGML kigkonsult.se iCalcreator 2.30.10//
CALSCALE:GREGORIAN
METHOD:PUBLISH
UID:1d738212-7f1a-4486-b324-549e8710af64
X-WR-CALDESC:EMS Safety Childcare Provider \n\nTop Notch 1 - Zoom + Hands O
 n\n\nClass Number: 29251738\nClass Start Date:08/04/2022 \nClass Time: 6:0
 0 PM - 10:00 PM\nLocation:4505 S 96th St \nOmaha\, NE 68127\n\n(8/4 Zoom (
 6 to 10) & Hands On Portion by Appt (takes 20 mins))\n\nSelf Paced Program
 : Can't make a class or prefer to go through the material at your own pace
 ? We can register you for a Self Paced Program followed by a Hands On Port
 ion (takes about 20 mins for Hands On). Inquire via email to: mattsafetytr
 aining@gmail.com\n\nGroup Class: Do you have 8+ people needing certificati
 on/recertification and would like to organize a class at your center/in-ho
 me or at our training facility? Inquire via email to: mattsafetytraining@g
 mail.com\n\n***We are constantly adding new classes. Check out our Website
  under the Training Calendar for classes and registration***\nwww.topnotch
 trainingcourses.com \n\n
X-WR-RELCALID:4e8fb10450d473c495643dc7cc53eff3
X-WR-TIMEZONE:America/Chicago
BEGIN:VTIMEZONE
TZID:America/Chicago
BEGIN:STANDARD
TZNAME:CST
DTSTART:20211107T020000
TZOFFSETFROM:-0500
TZOFFSETTO:-0600
RDATE:20221106T020000
RDATE:20231105T020000
END:STANDARD
BEGIN:DAYLIGHT
TZNAME:CDT
DTSTART:20220313T020000
TZOFFSETFROM:-0600
TZOFFSETTO:-0500
RDATE:20230312T020000
END:DAYLIGHT
END:VTIMEZONE
BEGIN:VEVENT
UID:fd9d8e46-6a20-485b-a2c1-0531d1cf48ad
DTSTAMP:20260425T025245Z
DESCRIPTION:EMS Safety Childcare Provider \n\nTop Notch 1 - Zoom + Hands On
 \n\nClass Number: 29251738\nClass Start Date:08/04/2022 \nClass Time: 6:00
  PM - 10:00 PM\nLocation:4505 S 96th St \nOmaha\, NE 68127\n\n(8/4 Zoom (6
  to 10) & Hands On Portion by Appt (takes 20 mins))\n\nSelf Paced Program:
  Can't make a class or prefer to go through the material at your own pace?
  We can register you for a Self Paced Program followed by a Hands On Porti
 on (takes about 20 mins for Hands On). Inquire via email to: mattsafetytra
 ining@gmail.com\n\nGroup Class: Do you have 8+ people needing certificatio
 n/recertification and would like to organize a class at your center/in-hom
 e or at our training facility? Inquire via email to: mattsafetytraining@gm
 ail.com\n\n***We are constantly adding new classes. Check out our Website 
 under the Training Calendar for classes and registration***\nwww.topnotcht
 rainingcourses.com \n\n
DTSTART;TZID=America/Chicago:20220804T180000
DTEND;TZID=America/Chicago:20220804T220000
LOCATION:
SUMMARY:EMS Safety Childcare Provider: Zoom and Hands On
END:VEVENT
END:VCALENDAR
