BEGIN:VCALENDAR
VERSION:2.0
PRODID:-//midwestchildcare.org//NONSGML kigkonsult.se iCalcreator 2.30.10//
CALSCALE:GREGORIAN
METHOD:PUBLISH
UID:d5c00ebf-f7a0-4bd3-939e-79677b9e3a6b
X-WR-CALDESC:A Big Mooncake for a Little Star\n\nTopic: A Big Mooncake for 
 a Little Star\nTime: Jul 28\, 2022 10:00 AM Central Time (US and Canada)\n
 \nJoin Zoom Meeting\nhttps://us02web.zoom.us/j/86949200698\n\nMeeting ID: 
 869 4920 0698
X-WR-RELCALID:98c10f0fe228e809e0f537fb8120d998
X-WR-TIMEZONE:America/Chicago
BEGIN:VTIMEZONE
TZID:America/Chicago
BEGIN:STANDARD
TZNAME:CST
DTSTART:20211107T020000
TZOFFSETFROM:-0500
TZOFFSETTO:-0600
RDATE:20221106T020000
RDATE:20231105T020000
END:STANDARD
BEGIN:DAYLIGHT
TZNAME:CDT
DTSTART:20220313T020000
TZOFFSETFROM:-0600
TZOFFSETTO:-0500
RDATE:20230312T020000
END:DAYLIGHT
END:VTIMEZONE
BEGIN:VEVENT
UID:54ff24e2-5c6d-43f9-bde6-d0f4774cf464
DTSTAMP:20260425T042811Z
DESCRIPTION:A Big Mooncake for a Little Star\n\nTopic: A Big Mooncake for a
  Little Star\nTime: Jul 28\, 2022 10:00 AM Central Time (US and Canada)\n
 \nJoin Zoom Meeting\nhttps://us02web.zoom.us/j/86949200698\n\nMeeting ID: 
 869 4920 0698
DTSTART;TZID=America/Chicago:20220728T093000
DTEND;TZID=America/Chicago:20220728T103000
LOCATION:
SUMMARY:A Big Mooncake for a Little Star
END:VEVENT
END:VCALENDAR
