BEGIN:VCALENDAR
VERSION:2.0
PRODID:-//midwestchildcare.org//NONSGML kigkonsult.se iCalcreator 2.30.10//
CALSCALE:GREGORIAN
METHOD:PUBLISH
UID:96c88a1f-a72f-4d85-8a8b-4e34f4289720
X-WR-CALDESC:Even Super Hero's Have Bad Days: An Interactive Preschool Clas
 s\n\nYou are invited to a Zoom meeting.\nWhen: March 31\, 2022 10:00 AM Ce
 ntral Time (US and Canada)\n\nRegister in advance for this meeting:\nhttps
 ://us02web.zoom.us/meeting/register/tZMof-qrqjMiG9JY757uUgHv7mVw7xSA-CTc\n
 \nAfter registering\, you will receive a confirmation email containing inf
 ormation about joining the meeting.
X-WR-RELCALID:fbd6180d9407d96f46ab8e5cbf7b598d
X-WR-TIMEZONE:America/Chicago
BEGIN:VTIMEZONE
TZID:America/Chicago
BEGIN:STANDARD
TZNAME:CST
DTSTART:20211107T020000
TZOFFSETFROM:-0500
TZOFFSETTO:-0600
RDATE:20221106T020000
END:STANDARD
BEGIN:DAYLIGHT
TZNAME:CDT
DTSTART:20220313T020000
TZOFFSETFROM:-0600
TZOFFSETTO:-0500
RDATE:20230312T020000
END:DAYLIGHT
END:VTIMEZONE
BEGIN:VEVENT
UID:c5207dab-b0f5-4a46-b144-42a6aa339835
DTSTAMP:20260425T115027Z
DESCRIPTION:Even Super Hero's Have Bad Days: An Interactive Preschool Class
 \n\nYou are invited to a Zoom meeting.\nWhen: March 31\, 2022 10:00 AM Cen
 tral Time (US and Canada)\n\nRegister in advance for this meeting:\nhttps:
 //us02web.zoom.us/meeting/register/tZMof-qrqjMiG9JY757uUgHv7mVw7xSA-CTc\n
 \nAfter registering\, you will receive a confirmation email containing inf
 ormation about joining the meeting.
DTSTART;TZID=America/Chicago:20220331T100000
DTEND;TZID=America/Chicago:20220331T103000
LOCATION:https://us02web.zoom.us/meeting/register/tZMof-qrqjMiG9JY757uUgHv7
 mVw7xSA-CTc
SUMMARY:Even Super Hero's Have Bad Days: An Interactive Preschool Class
END:VEVENT
END:VCALENDAR
