BEGIN:VCALENDAR
VERSION:2.0
PRODID:-//midwestchildcare.org//NONSGML kigkonsult.se iCalcreator 2.30.10//
CALSCALE:GREGORIAN
METHOD:PUBLISH
UID:9813c354-4c57-452c-a343-a0dc10a4f703
X-WR-CALDESC:Even Super Hero's Have Bad Days: An Interactive Preschool Clas
 s\n\nYou are invited to a Zoom meeting.\nWhen: March 31\, 2022 09:30 AM Ce
 ntral Time (US and Canada)\n\nRegister in advance for this meeting:\nhttps
 ://us02web.zoom.us/meeting/register/tZ0lcemgpjksGdB2ReNU1FtNmK3C5S0JT_1V\n
 \nAfter registering\, you will receive a confirmation email containing inf
 ormation about joining the meeting.
X-WR-RELCALID:f2f0d9a5c15527bdb11ad7311329f462
X-WR-TIMEZONE:America/Chicago
BEGIN:VTIMEZONE
TZID:America/Chicago
BEGIN:STANDARD
TZNAME:CST
DTSTART:20211107T020000
TZOFFSETFROM:-0500
TZOFFSETTO:-0600
RDATE:20221106T020000
END:STANDARD
BEGIN:DAYLIGHT
TZNAME:CDT
DTSTART:20220313T020000
TZOFFSETFROM:-0600
TZOFFSETTO:-0500
RDATE:20230312T020000
END:DAYLIGHT
END:VTIMEZONE
BEGIN:VEVENT
UID:1d4d311b-4d73-4885-9348-95885ac0c79d
DTSTAMP:20260425T111645Z
DESCRIPTION:Even Super Hero's Have Bad Days: An Interactive Preschool Class
 \n\nYou are invited to a Zoom meeting.\nWhen: March 31\, 2022 09:30 AM Cen
 tral Time (US and Canada)\n\nRegister in advance for this meeting:\nhttps:
 //us02web.zoom.us/meeting/register/tZ0lcemgpjksGdB2ReNU1FtNmK3C5S0JT_1V\n
 \nAfter registering\, you will receive a confirmation email containing inf
 ormation about joining the meeting.
DTSTART;TZID=America/Chicago:20220331T093000
DTEND;TZID=America/Chicago:20220331T100000
LOCATION:https://us02web.zoom.us/meeting/register/tZ0lcemgpjksGdB2ReNU1FtNm
 K3C5S0JT_1V
SUMMARY:Even Super Hero's Have Bad Days: An Interactive Preschool Class
END:VEVENT
END:VCALENDAR
