BEGIN:VCALENDAR
VERSION:2.0
PRODID:-//midwestchildcare.org//NONSGML kigkonsult.se iCalcreator 2.30.10//
CALSCALE:GREGORIAN
METHOD:PUBLISH
UID:9d891a4b-72b0-448d-8146-f06f515167a5
X-WR-CALDESC:Even Super Hero's Have Bad Days: An Interactive Preschool Clas
 s\n\nYou are invited to a Zoom meeting.\nWhen: March 31\, 2022 09:00 AM Ce
 ntral Time (US and Canada)\n\nRegister in advance for this meeting:\nhttps
 ://us02web.zoom.us/meeting/register/tZAvfuGvqjssH925i6y8F29cl2X-DaiG5RVn\n
 \nAfter registering\, you will receive a confirmation email containing inf
 ormation about joining the meeting.
X-WR-RELCALID:ab7211e49d870e855dc68ba88da3a367
X-WR-TIMEZONE:America/Chicago
BEGIN:VTIMEZONE
TZID:America/Chicago
BEGIN:STANDARD
TZNAME:CST
DTSTART:20211107T020000
TZOFFSETFROM:-0500
TZOFFSETTO:-0600
RDATE:20221106T020000
END:STANDARD
BEGIN:DAYLIGHT
TZNAME:CDT
DTSTART:20220313T020000
TZOFFSETFROM:-0600
TZOFFSETTO:-0500
RDATE:20230312T020000
END:DAYLIGHT
END:VTIMEZONE
BEGIN:VEVENT
UID:68c4f051-1721-4d4d-b2d3-ed718879c3c2
DTSTAMP:20260425T112822Z
DESCRIPTION:Even Super Hero's Have Bad Days: An Interactive Preschool Class
 \n\nYou are invited to a Zoom meeting.\nWhen: March 31\, 2022 09:00 AM Cen
 tral Time (US and Canada)\n\nRegister in advance for this meeting:\nhttps:
 //us02web.zoom.us/meeting/register/tZAvfuGvqjssH925i6y8F29cl2X-DaiG5RVn\n
 \nAfter registering\, you will receive a confirmation email containing inf
 ormation about joining the meeting.
DTSTART;TZID=America/Chicago:20220331T090000
DTEND;TZID=America/Chicago:20220331T093000
LOCATION:https://us02web.zoom.us/meeting/register/tZAvfuGvqjssH925i6y8F29cl
 2X-DaiG5RVn
SUMMARY:Even Super Hero's Have Bad Days: An Interactive Preschool Class
END:VEVENT
END:VCALENDAR
