BEGIN:VCALENDAR
VERSION:2.0
PRODID:-//midwestchildcare.org//NONSGML kigkonsult.se iCalcreator 2.30.10//
CALSCALE:GREGORIAN
METHOD:PUBLISH
UID:70210b95-43a1-41c7-9d7f-5868f61b80bf
X-WR-CALDESC:Please register for The Relationship between Heath\, Nutrition
  and our Teeth on Mar 24\, 2022 1:00 PM CDT at:\n\nhttps://attendee.gotowe
 binar.com/register/7213667512170531341\n\nAfter registering\, you will rec
 eive a confirmation email containing information about joining the webinar
 .
X-WR-RELCALID:a5f027d6378cf2ec35f9289d709c1acd
X-WR-TIMEZONE:America/Chicago
BEGIN:VTIMEZONE
TZID:America/Chicago
BEGIN:STANDARD
TZNAME:CST
DTSTART:20211107T020000
TZOFFSETFROM:-0500
TZOFFSETTO:-0600
RDATE:20221106T020000
END:STANDARD
BEGIN:DAYLIGHT
TZNAME:CDT
DTSTART:20220313T020000
TZOFFSETFROM:-0600
TZOFFSETTO:-0500
RDATE:20230312T020000
END:DAYLIGHT
END:VTIMEZONE
BEGIN:VEVENT
UID:331de64c-b8e0-47e7-9c4b-09044e458f7f
DTSTAMP:20260425T114511Z
DESCRIPTION:Please register for The Relationship between Heath\, Nutrition 
 and our Teeth on Mar 24\, 2022 1:00 PM CDT at:\n\nhttps://attendee.gotoweb
 inar.com/register/7213667512170531341\n\nAfter registering\, you will rece
 ive a confirmation email containing information about joining the webinar.
DTSTART;TZID=America/Chicago:20220324T080000
DTEND;TZID=America/Chicago:20220324T090000
LOCATION:
SUMMARY:The Relationship between Heath\, Nutrition and our Teeth | Webinar
END:VEVENT
END:VCALENDAR
